{ "extent": { "ymin": 2144187.9638319863, "xmin": -17838681.833300002, "ymax": 2539784.5606999993, "xmax": -17232850.05595224, "spatialReference": { "latestWkid": 3857, "wkid": 102100 } }, "blockWidth": 2048, "mosaicOperator": "First", "serviceSourceType": "esriImageServiceSourceTypeMosaicDataset", "hasMultidimensions": false, "maxImageWidth": 15000, "maxRecordCount": 1000, "meanValues": [ 88.948117539026654, 101.84389348025726, 98.670339761248769 ], "hasColormap": false, "compressionType": "None", "defaultCompressionQuality": 75, "maxValues": [ 173, 188, 188 ], "hasHistograms": true, "datasetFormat": "AMD", "maxImageHeight": 4100, "sortField": "", "bandNames": [ "Red", "Green", "Blue" ], "spatialReference": { "latestWkid": 3857, "wkid": 102100 }, "fullExtent": { "ymin": 2144187.9638319863, "xmin": -17838681.833300002, "ymax": 2539784.5606999993, "xmax": -17232850.05595224, "spatialReference": { "latestWkid": 3857, "wkid": 102100 } }, "bandCount": 3, "rasterFunctionInfos": [{ "help": "", "name": "None", "description": "A No-Op Function." }], "supportsStatistics": true, "sortableFields": "", "minValues": [ 15, 25, 12 ], "allowRasterFunction": true, "allowComputeTiePoints": false, "serviceDataType": "esriImageServiceDataTypeRGB", "supportsAdvancedQueries": true, "maxDownloadSizeLimit": 2048, "currentVersion": 12.1, "sortValue": null, "objectIdField": "OBJECTID", "blockHeight": 256, "initialExtent": { "ymin": 2144187.9638319863, "xmin": -17838681.833300002, "ymax": 2539784.5606999993, "xmax": -17232850.05595224, "spatialReference": { "latestWkid": 3857, "wkid": 102100 } }, "pixelSizeX": 0.019854140914723272, "pixelSizeY": 0.019854140914723324, "defaultMosaicMethod": "Northwest", "name": "SoH_Imagery/Coastal_2015", "allowedMosaicMethods": "NorthWest,Center,LockRaster,ByAttribute,Nadir,Viewpoint,Seamline,None", "maxDownloadImageCount": 20, "fields": [ { "domain": null, "name": "OBJECTID", "alias": "OBJECTID", "type": "esriFieldTypeOID" }, { "domain": null, "name": "Shape", "alias": "Shape", "type": "esriFieldTypeGeometry" }, { "domain": null, "name": "Name", "length": 200, "alias": "Name", "type": "esriFieldTypeString" }, { "domain": null, "name": "MinPS", "alias": "MinPS", "type": "esriFieldTypeDouble" }, { "domain": null, "name": "MaxPS", "alias": "MaxPS", "type": "esriFieldTypeDouble" }, { "domain": null, "name": "LowPS", "alias": "LowPS", "type": "esriFieldTypeDouble" }, { "domain": null, "name": "HighPS", "alias": "HighPS", "type": "esriFieldTypeDouble" }, { "domain": { "splitPolicy": "esriSPTDefaultValue", "name": "MosaicCatalogItemCategoryDomain", "description": "Catalog item categories.", "type": "codedValue", "codedValues": [ { "code": 0, "name": "Unknown" }, { "code": 1, "name": "Primary" }, { "code": 2, "name": "Overview" }, { "code": 3, "name": "Unprocessed Overview" }, { "code": 4, "name": "Partial Overview" }, { "code": 5, "name": "Inactive" }, { "code": 253, "name": "Uploaded" }, { "code": 254, "name": "Incomplete" }, { "code": 255, "name": "Custom" } ], "mergePolicy": "esriMPTDefaultValue" }, "name": "Category", "alias": "Category", "type": "esriFieldTypeInteger" }, { "domain": null, "name": "Tag", "length": 100, "alias": "Tag", "type": "esriFieldTypeString" }, { "domain": null, "name": "GroupName", "length": 100, "alias": "GroupName", "type": "esriFieldTypeString" }, { "domain": null, "name": "ProductName", "length": 100, "alias": "ProductName", "type": "esriFieldTypeString" }, { "domain": null, "name": "CenterX", "alias": "CenterX", "type": "esriFieldTypeDouble" }, { "domain": null, "name": "CenterY", "alias": "CenterY", "type": "esriFieldTypeDouble" }, { "domain": null, "name": "ZOrder", "alias": "ZOrder", "type": "esriFieldTypeInteger" }, { "domain": null, "name": "Shape_Length", "alias": "Shape_Length", "type": "esriFieldTypeDouble" }, { "domain": null, "name": "Shape_Area", "alias": "Shape_Area", "type": "esriFieldTypeDouble" } ], "allowAnalysis": true, "hasRasterAttributeTable": false, "useStandardizedQueries": true, "description": "
Orthoimagery of the coastlines of the Main Hawaiian Islands, 2015; Resource Mapping Hawaii conducted aerial surveys between August - November 2015 to collect imagery at a spatial resolution of 2cm. Due to flight restrictions around airports and military bases, some areas of the coastline were omitted. The dataset covers an approximate 200m swath, with a variable amount of shoreline and nearshore water, and was processed into tiles of orthoimagery for GIS analysis of marine debris. Brian Neilson (Hawaii Department of Land and Natural Resources; Brian.J.Neilson@hawaii.gov) was the Principal Investigator on the \u201cHawaiian islands marine debris aerial imagery surveys\u201d component of the PICES Project \u201cEffects of marine debris caused by the Great Tsunami of 2011\u201d funded by the Ministry of the Environment of Japan. The project coordinator was Dr. Alexander Bychkov (bychkov@pices.int). In 2020, Ross Winans (winans2@hawaii.edu) enhanced the imagery by: removing excessive no-data (including cropping out areas of no-data in some images); creating alpha masks with GINA's gdal_trace_outline for transparency since the data uses \"0\" and \"255\" for valid data; for areas in the data where places were \"patched\" with a second, overlapping image swath at a later date, the image that best aligned with the GIS labeled marine debris objects described in Moy et al. (2018) were chosen and the unused overlap was cropped out, resulting in a data set that is now tiled edge-to-edge with no overlap. For further information, please contact the Hawaii Statewide GIS Program at gis@hawaii.gov. Credits: Resource Mapping Hawaii; Ross Winans<\/span><\/p><\/div><\/div>",
"pixelType": "U8",
"meanPixelSize": 0.019854140914723296,
"exportTilesAllowed": false,
"editFieldsInfo": null,
"rasterTypeInfos": [{
"help": "",
"name": "Raster Dataset",
"description": "Supports all ArcGIS Raster Datasets"
}],
"defaultResamplingMethod": "Bilinear",
"itemAccess": false,
"minScale": 0,
"serviceProperties": " Orthoimagery of the coastlines of the Main Hawaiian Islands, 2015; Resource Mapping Hawaii conducted aerial surveys between August - November 2015 to collect imagery at a spatial resolution of 2cm. Due to flight restrictions around airports and military bases, some areas of the coastline were omitted. The dataset covers an approximate 200m swath, with a variable amount of shoreline and nearshore water, and was processed into tiles of orthoimagery for GIS analysis of marine debris. Brian Neilson (Hawaii Department of Land and Natural Resources; Brian.J.Neilson@hawaii.gov) was the Principal Investigator on the \u201cHawaiian islands marine debris aerial imagery surveys\u201d component of the PICES Project \u201cEffects of marine debris caused by the Great Tsunami of 2011\u201d funded by the Ministry of the Environment of Japan. The project coordinator was Dr. Alexander Bychkov (bychkov@pices.int). In 2020, Ross Winans (winans2@hawaii.edu) enhanced the imagery by: removing excessive no-data (including cropping out areas of no-data in some images); creating alpha masks with GINA's gdal_trace_outline for transparency since the data uses \"0\" and \"255\" for valid data; for areas in the data where places were \"patched\" with a second, overlapping image swath at a later date, the image that best aligned with the GIS labeled marine debris objects described in Moy et al. (2018) were chosen and the unused overlap was cropped out, resulting in a data set that is now tiled edge-to-edge with no overlap. For further information, please contact the Hawaii Statewide GIS Program at gis@hawaii.gov. Credits: Resource Mapping Hawaii; Ross Winans<\/span><\/p><\/div><\/div>",
"allowCopy": true,
"copyrightText": "Resource Mapping Hawaii; Ross Winans",
"mensurationCapabilities": "None",
"ownershipBasedAccessControlForRasters": null
}