<?xml version="1.0" encoding="UTF-8" standalone="no"?>
<metadata xml:lang="en">
<Esri>
<CreaDate>20130724</CreaDate>
<CreaTime>08272800</CreaTime>
<ArcGISFormat>1.0</ArcGISFormat>
<ArcGISstyle>FGDC CSDGM Metadata</ArcGISstyle>
<SyncOnce>FALSE</SyncOnce>
<DataProperties>
<itemProps>
<imsContentType export="False">004</imsContentType>
<itemName Sync="TRUE">Molokai_1950_mosaic.tif</itemName>
<nativeExtBox>
<westBL Sync="TRUE">674448.375000</westBL>
<eastBL Sync="TRUE">740152.875000</eastBL>
<southBL Sync="TRUE">2327861.105000</southBL>
<northBL Sync="TRUE">2350517.105000</northBL>
<exTypeCode Sync="TRUE">1</exTypeCode>
</nativeExtBox>
</itemProps>
<coordRef>
<type Sync="TRUE">Projected</type>
<geogcsn Sync="TRUE">GCS_North_American_1983</geogcsn>
<csUnits Sync="TRUE">Linear Unit: Meter (1.000000)</csUnits>
<projcsn Sync="TRUE">NAD_1983_UTM_Zone_4N</projcsn>
<peXml Sync="TRUE">&lt;ProjectedCoordinateSystem xsi:type='typens:ProjectedCoordinateSystem' xmlns:xsi='http://www.w3.org/2001/XMLSchema-instance' xmlns:xs='http://www.w3.org/2001/XMLSchema' xmlns:typens='http://www.esri.com/schemas/ArcGIS/10.1'&gt;&lt;WKT&gt;PROJCS[&amp;quot;NAD_1983_UTM_Zone_4N&amp;quot;,GEOGCS[&amp;quot;GCS_North_American_1983&amp;quot;,DATUM[&amp;quot;D_North_American_1983&amp;quot;,SPHEROID[&amp;quot;GRS_1980&amp;quot;,6378137.0,298.257222101]],PRIMEM[&amp;quot;Greenwich&amp;quot;,0.0],UNIT[&amp;quot;Degree&amp;quot;,0.0174532925199433]],PROJECTION[&amp;quot;Transverse_Mercator&amp;quot;],PARAMETER[&amp;quot;false_easting&amp;quot;,500000.0],PARAMETER[&amp;quot;false_northing&amp;quot;,0.0],PARAMETER[&amp;quot;central_meridian&amp;quot;,-159.0],PARAMETER[&amp;quot;scale_factor&amp;quot;,0.9996],PARAMETER[&amp;quot;latitude_of_origin&amp;quot;,0.0],UNIT[&amp;quot;Meter&amp;quot;,1.0],AUTHORITY[&amp;quot;EPSG&amp;quot;,26904]]&lt;/WKT&gt;&lt;XOrigin&gt;-5120900&lt;/XOrigin&gt;&lt;YOrigin&gt;-9998100&lt;/YOrigin&gt;&lt;XYScale&gt;450445547.3910538&lt;/XYScale&gt;&lt;ZOrigin&gt;-100000&lt;/ZOrigin&gt;&lt;ZScale&gt;10000&lt;/ZScale&gt;&lt;MOrigin&gt;-100000&lt;/MOrigin&gt;&lt;MScale&gt;10000&lt;/MScale&gt;&lt;XYTolerance&gt;0.001&lt;/XYTolerance&gt;&lt;ZTolerance&gt;0.001&lt;/ZTolerance&gt;&lt;MTolerance&gt;0.001&lt;/MTolerance&gt;&lt;HighPrecision&gt;true&lt;/HighPrecision&gt;&lt;WKID&gt;26904&lt;/WKID&gt;&lt;LatestWKID&gt;26904&lt;/LatestWKID&gt;&lt;/ProjectedCoordinateSystem&gt;</peXml>
</coordRef>
<RasterProperties>
<General>
<PixelDepth Sync="TRUE">8</PixelDepth>
<HasColormap Sync="TRUE">FALSE</HasColormap>
<CompressionType Sync="TRUE">None</CompressionType>
<NumBands Sync="TRUE">1</NumBands>
<Format Sync="TRUE">TIFF</Format>
<HasPyramids Sync="TRUE">TRUE</HasPyramids>
<SourceType Sync="TRUE">continuous</SourceType>
<PixelType Sync="TRUE">unsigned integer</PixelType>
<NoDataValue Sync="TRUE">
</NoDataValue>
</General>
</RasterProperties>
</DataProperties>
<scaleRange>
<minScale>500000</minScale>
<maxScale>5000</maxScale>
</scaleRange>
<ArcGISProfile>FGDC</ArcGISProfile>
<ModDate>20160429</ModDate>
<ModTime>15095900</ModTime>
<SyncDate>20160429</SyncDate>
<SyncTime>15095900</SyncTime>
</Esri>
<mdHrLv>
<ScopeCd value="005">
</ScopeCd>
</mdHrLv>
<dataIdInfo>
<idCitation>
<resTitle>Molokai Island, Hawaii 1950 BW aerial imagery mosaic</resTitle>
<date>
<createDate>2016-01-09T00:00:00</createDate>
<pubDate>2016-02-29T00:00:00</pubDate>
</date>
<resEd>1.0</resEd>
<resEdDate>20160229</resEdDate>
<presForm>
<fgdcGeoform>raster digital data</fgdcGeoform>
<PresFormCd value="003">
</PresFormCd>
</presForm>
<citRespParty>
<rpIndName>Peter M. Gehring</rpIndName>
<rpOrgName>Geographic Analysis and Cartographic Services, County of Maui, Hawaii</rpOrgName>
<rpPosName>GIS Analyst</rpPosName>
<role>
<RoleCd value="006">
</RoleCd>
</role>
<rpCntInfo>
<cntAddress addressType="both">
<delPoint>2145 Kaohu St. #104</delPoint>
<city>Wailuku</city>
<adminArea>HI</adminArea>
<postCode>96793</postCode>
<eMailAdd>peter.gehring@co.maui.hi.us</eMailAdd>
<country>US</country>
</cntAddress>
<cntPhone>
<voiceNum tddtty="">808-264-7434</voiceNum>
<faxNum>808-270-5576</faxNum>
</cntPhone>
</rpCntInfo>
<displayName>Peter M. Gehring</displayName>
</citRespParty>
</idCitation>
<searchKeys>
<keyword>Hawaii</keyword>
<keyword>Maui County</keyword>
<keyword>Molokai Island</keyword>
<keyword>aerial imagery</keyword>
<keyword>1950</keyword>
<keyword>panchromatic</keyword>
</searchKeys>
<idPurp>This imagery dataset was created to assist with historic land use change detection in Maui County, Hawaii.</idPurp>
<idAbs>&lt;div style='text-align:Left;'&gt;&lt;div&gt;&lt;div&gt;&lt;p&gt;&lt;span&gt;The 0.75 m/pixel Molokai historic aerial mosaic was created by rectifying eighty-two (82) source negative scans collected in 1950 by the United States Geologic Survey (USGS), and housed at the University of Hawaii, Manoa library. GIS/imagery processing was performed by the &lt;/span&gt;&lt;a href='http://www.co.maui.hi.us/index.aspx?NID=972'&gt;&lt;span&gt;Geographic Analysis and Cartographic Services Department&lt;/span&gt;&lt;/a&gt;&lt;span&gt;, County of Maui, Hawaii in 2016.&lt;/span&gt;&lt;/p&gt;&lt;/div&gt;&lt;/div&gt;&lt;/div&gt;</idAbs>
<idCredit>Peter M. Gehring, GIS Analyst, County of Maui, Hawaii, Geographic Analysis and Cartographic Services Department.Theodore Kwok, Geospatial Information Services Librarian, Government Document and Maps, University of Hawaii at Manoa Library</idCredit>
<resConst>
<Consts>
<useLimit>&lt;div style='text-align:Left;'&gt;&lt;div&gt;&lt;div&gt;&lt;p&gt;&lt;span&gt;Data is redistributable with proper metadata and source attribution notices to the respective data providers. &lt;/span&gt;&lt;/p&gt;&lt;p&gt;&lt;span&gt;Data rectified visually to a variety of satellite-derived imagery. Spatial accuracy varies across image. No horizontal/XY accuracies are implied or guaranteed. Accuracy of any user derived products are the sole responsibility of users, and neither the County of Maui, Hawaii nor University of Hawaii take responsibility for any issues that may result. Not to be used for navigation.&lt;/span&gt;&lt;/p&gt;&lt;/div&gt;&lt;/div&gt;&lt;/div&gt;</useLimit>
</Consts>
</resConst>
<themeKeys>
<keyword>Molokai Island, Maui County, 1950, imagery</keyword>
</themeKeys>
<placeKeys>
<keyword>Molokai Island, Maui County, Hawaii, USA</keyword>
</placeKeys>
<tempKeys>
<keyword>1950</keyword>
</tempKeys>
<dataChar>
<CharSetCd value="004">
</CharSetCd>
</dataChar>
<dataScale>
<equScale>
<rfDenom>2835</rfDenom>
</equScale>
<scaleDist>
<value uom="m">0.75</value>
</scaleDist>
</dataScale>
<envirDesc/>
<dataExt>
<exDesc>Contains the entire island of Molokai, Hawaii</exDesc>
<geoEle>
<GeoBndBox>
<exTypeCode>1</exTypeCode>
<westBL>-157.078036837192</westBL>
<eastBL>-156.792328255903</eastBL>
<southBL>20.7142660379249</southBL>
<northBL>20.9481375895854</northBL>
</GeoBndBox>
</geoEle>
<tempEle>
<TempExtent>
<exTemp>
<TM_Period>
<tmBegin>1950-01-01T00:00:00</tmBegin>
<tmEnd>1950-12-31T00:00:00</tmEnd>
</TM_Period>
</exTemp>
</TempExtent>
</tempEle>
</dataExt>
<idPoC>
<rpIndName>Peter M. Gehring</rpIndName>
<rpOrgName>Geographic Analysis and Cartographic Services, County of Maui, Hawaii</rpOrgName>
<rpPosName>GIS Analyst</rpPosName>
<role>
<RoleCd value="011">
</RoleCd>
</role>
<displayName>Peter M. Gehring</displayName>
<rpCntInfo>
<cntAddress addressType="both">
<delPoint>2145 Kaohu St., #104</delPoint>
<city>Wailuku</city>
<adminArea>HI</adminArea>
<postCode>96793</postCode>
</cntAddress>
<cntPhone>
<voiceNum tddtty="">808-264-7434</voiceNum>
<faxNum>808-270-5576</faxNum>
</cntPhone>
<cntHours>07:45-16:30 Monday-Friday</cntHours>
</rpCntInfo>
</idPoC>
<dataLang>
<languageCode Sync="FALSE" value="zxx">
</languageCode>
<countryCode Sync="TRUE" value="US">
</countryCode>
</dataLang>
<spatRpType>
<SpatRepTypCd Sync="TRUE" value="002">
</SpatRepTypCd>
</spatRpType>
<idStatus>
<ProgCd value="002">
</ProgCd>
</idStatus>
<resMaint>
<maintFreq>
<MaintFreqCd value="011">
</MaintFreqCd>
</maintFreq>
</resMaint>
<tpCat>
<TopicCatCd value="010">
</TopicCatCd>
</tpCat>
<dataExt>
<geoEle>
<GeoBndBox esriExtentType="search">
<exTypeCode Sync="TRUE">1</exTypeCode>
<westBL Sync="TRUE">-157.321157</westBL>
<eastBL Sync="TRUE">-156.685996</eastBL>
<northBL Sync="TRUE">21.247951</northBL>
<southBL Sync="TRUE">21.035912</southBL>
</GeoBndBox>
</geoEle>
</dataExt>
</dataIdInfo>
<mdFileID>4E184185-DC06-4F55-937B-75351F7A45FF</mdFileID>
<mdLang>
<languageCode value="eng">
</languageCode>
<countryCode Sync="TRUE" value="US">
</countryCode>
</mdLang>
<mdChar>
<CharSetCd value="004">
</CharSetCd>
</mdChar>
<mdDateSt>20160429</mdDateSt>
<mdContact>
<rpIndName>Peter M. Gehring</rpIndName>
<rpOrgName>Geographic Analysis and Cartographic Services, County of Maui, Hawaii</rpOrgName>
<rpPosName>GIS Analyst</rpPosName>
<role>
<RoleCd value="011">
</RoleCd>
</role>
<rpCntInfo>
<cntAddress addressType="both">
<delPoint>2145 Kaohu St. #104</delPoint>
<city>Wailuku</city>
<adminArea>HI</adminArea>
<postCode>96793</postCode>
<eMailAdd>peter.gehring@co.maui.hi.us</eMailAdd>
<country>US</country>
</cntAddress>
<cntPhone>
<voiceNum tddtty="">808-264-7434</voiceNum>
<faxNum>808-270-5576</faxNum>
</cntPhone>
</rpCntInfo>
</mdContact>
<mdMaint>
<maintFreq>
<MaintFreqCd value="011">
</MaintFreqCd>
</maintFreq>
</mdMaint>
<mdConst>
<Consts>
<useLimit>&lt;DIV STYLE="text-align:Left;"&gt;&lt;DIV&gt;&lt;DIV&gt;&lt;P&gt;&lt;SPAN&gt;Not to be used for navigation.&lt;/SPAN&gt;&lt;/P&gt;&lt;/DIV&gt;&lt;/DIV&gt;&lt;/DIV&gt;</useLimit>
</Consts>
</mdConst>
<contInfo>
<ImgDesc>
<attDesc>Panchromatic</attDesc>
<contentTyp>
<ContentTypCd Sync="TRUE" value="001">
</ContentTypCd>
</contentTyp>
<illElevAng>UNK/Varies</illElevAng>
<illAziAng>UNK/Varies</illAziAng>
<imagCond>
<ImgCondCd value="009">
</ImgCondCd>
</imagCond>
<cloudCovPer>2</cloudCovPer>
<cmpGenQuan>0</cmpGenQuan>
<trianInd>False</trianInd>
<radCalDatAv>False</radCalDatAv>
<camCalInAv>False</camCalInAv>
<filmDistInAv>False</filmDistInAv>
<lensDistInAv>False</lensDistInAv>
<covDim>
<Band>
<dimDescrp Sync="TRUE">Band_1</dimDescrp>
<maxVal Sync="TRUE">255.000000</maxVal>
<minVal Sync="TRUE">1.000000</minVal>
<bitsPerVal Sync="TRUE">8</bitsPerVal>
<valUnit>
<UOM gmlID="" type="length">
</UOM>
</valUnit>
</Band>
</covDim>
</ImgDesc>
</contInfo>
<distInfo>
<distFormat>
<formatName>TIFF image</formatName>
<formatVer>Generic/WIN</formatVer>
</distFormat>
</distInfo>
<mdHrLvName Sync="TRUE">dataset</mdHrLvName>
<refSysInfo>
<RefSystem>
<refSysID>
<identCode Sync="TRUE" code="26904">
</identCode>
<idCodeSpace Sync="TRUE">EPSG</idCodeSpace>
<idVersion Sync="TRUE">7.11.2</idVersion>
</refSysID>
</RefSystem>
</refSysInfo>
<spatRepInfo>
<Georect>
<cellGeo>
<CellGeoCd Sync="TRUE" value="002">
</CellGeoCd>
</cellGeo>
<numDims Sync="TRUE">2</numDims>
<tranParaAv Sync="TRUE">1</tranParaAv>
<chkPtAv Sync="TRUE">0</chkPtAv>
<cornerPts>
<pos Sync="TRUE">674448.375000 2327861.105000</pos>
</cornerPts>
<cornerPts>
<pos Sync="TRUE">674448.375000 2350517.105000</pos>
</cornerPts>
<cornerPts>
<pos Sync="TRUE">740152.875000 2350517.105000</pos>
</cornerPts>
<cornerPts>
<pos Sync="TRUE">740152.875000 2327861.105000</pos>
</cornerPts>
<centerPt>
<pos Sync="TRUE">707300.625000 2339189.105000</pos>
</centerPt>
<axisDimension type="002">
<dimSize Sync="TRUE">87606</dimSize>
<dimResol>
<value Sync="TRUE" uom="Meter">0.750000</value>
</dimResol>
</axisDimension>
<axisDimension type="001">
<dimSize Sync="TRUE">30208</dimSize>
<dimResol>
<value Sync="TRUE" uom="Meter">0.750000</value>
</dimResol>
</axisDimension>
<ptInPixel>
<PixOrientCd Sync="TRUE" value="001">
</PixOrientCd>
</ptInPixel>
</Georect>
</spatRepInfo>
</metadata>
