The 0.75 m/pixel Molokai historic aerial mosaic was created by rectifying eighty-two (82) source negative scans collected in 1950 by the United States Geologic Survey (USGS), and housed at the University of Hawaii, Manoa library. GIS/imagery processing was performed by the <\/span>Geographic Analysis and Cartographic Services Department<\/span><\/a>, County of Maui, Hawaii in 2016.<\/span><\/p><\/div><\/div><\/div>",
"extent": {
"xmin": 674448.375,
"ymin": 2327861.105,
"xmax": 740152.875,
"ymax": 2350517.105,
"spatialReference": {
"wkid": 26904,
"latestWkid": 26904
}
},
"initialExtent": {
"xmin": 674448.375,
"ymin": 2327861.105,
"xmax": 740152.875,
"ymax": 2350517.105,
"spatialReference": {
"wkid": 26904,
"latestWkid": 26904
}
},
"fullExtent": {
"xmin": 674448.375,
"ymin": 2327861.105,
"xmax": 740152.875,
"ymax": 2350517.105,
"spatialReference": {
"wkid": 26904,
"latestWkid": 26904
}
},
"sortableFields": "",
"bandCount": 1,
"pixelType": "U8",
"minValues": [
1
],
"maxValues": [
255
],
"meanValues": [
126.95195120326
],
"stdvValues": [
50.204571839627
],
"serviceProperties": "Center<\/MosaicMethod>First<\/MosaicOperator>true<\/SortAscending><\/LockImageID><\/TileOrderField>0<\/TileOrderBase>0.000000<\/AvgImageSpacingX>0.000000<\/AvgImageSpacingY>0.0<\/ViewPointX>0.0<\/ViewPointY>0.0<\/ViewPointDefShiftX>0.0<\/ViewPointDefShiftY>None<\/CompressionMethod>75<\/CompressionQuality>0.010000<\/CompressionTolerance>Bilinear<\/SamplingMethod><\/ImageServiceProperties><\/ImageServer>",
"allowedFields": "",
"hasMultidimensions": false,
"pixelSizeX": 0.75,
"pixelSizeY": 0.75,
"meanPixelSize": 0.75,
"datasetFormat": "TIFF",
"uncompressedSize": 2646402048,
"blockWidth": 87606,
"blockHeight": 1,
"compressionType": "None",
"bandNames": [
"Band_1"
],
"allowCopy": true,
"allowAnalysis": true,
"itemAccess": false,
"inspectionCapabilities": "",
"minPixelSize": 0,
"maxPixelSize": 0,
"copyrightText": "Peter M. Gehring, GIS Analyst, County of Maui, Hawaii, Geographic Analysis and Cartographic Services Department.Theodore Kwok, Geospatial Information Services Librarian, Government Document and Maps, University of Hawaii at Manoa Library",
"serviceDataType": "esriImageServiceDataTypeGeneric",
"serviceSourceType": "esriImageServiceSourceTypeDataset",
"objectIdField": "",
"fields": [],
"capabilities": "Mensuration,Image,Metadata",
"defaultMosaicMethod": "Center",
"allowedMosaicMethods": "",
"sortField": "",
"sortValue": null,
"sortAscending": true,
"mosaicOperator": "First",
"defaultCompressionQuality": 75,
"defaultResamplingMethod": "Bilinear",
"maxImageHeight": 4100,
"maxImageWidth": 15000,
"allowRasterFunction": true,
"rasterFunctionInfos": [
{
"name": "None",
"description": "",
"help": ""
}
],
"rasterTypeInfos": [
{
"name": "Raster Dataset",
"description": "Supports all ArcGIS Raster Datasets",
"help": ""
}
],
"mensurationCapabilities": "Basic",
"hasHistograms": true,
"hasColormap": false,
"hasRasterAttributeTable": false,
"minScale": 0,
"maxScale": 0,
"exportTilesAllowed": false,
"supportsStatistics": false,
"supportsAdvancedQueries": false,
"editFieldsInfo": null,
"ownershipBasedAccessControlForRasters": null,
"allowComputeTiePoints": false,
"useStandardizedQueries": true,
"advancedQueryCapabilities": {
"useStandardizedQueries": true,
"supportsStatistics": false,
"supportsOrderBy": false,
"supportsDistinct": false,
"supportsPagination": false
},
"spatialReference": {
"wkid": 26904,
"latestWkid": 26904
},
"resampling": false
}