<?xml version="1.0" encoding="UTF-8" standalone="no"?>
<metadata xml:lang="en">
<Esri>
<CreaDate>20210217</CreaDate>
<CreaTime>15001000</CreaTime>
<ArcGISFormat>1.0</ArcGISFormat>
<SyncOnce>FALSE</SyncOnce>
<DataProperties>
<itemProps>
<itemName Sync="TRUE">Vivid_2020</itemName>
<nativeExtBox>
<westBL Sync="TRUE">-17875257.686700</westBL>
<eastBL Sync="TRUE">-17229517.671747</eastBL>
<southBL Sync="TRUE">2142752.255499</southBL>
<northBL Sync="TRUE">2550496.340500</northBL>
<exTypeCode Sync="TRUE">1</exTypeCode>
</nativeExtBox>
</itemProps>
<coordRef>
<type Sync="TRUE">Projected</type>
<geogcsn Sync="TRUE">GCS_WGS_1984</geogcsn>
<csUnits Sync="TRUE">Linear Unit: Meter (1.000000)</csUnits>
<projcsn Sync="TRUE">WGS_1984_Web_Mercator_Auxiliary_Sphere</projcsn>
<peXml Sync="TRUE">&lt;ProjectedCoordinateSystem xsi:type='typens:ProjectedCoordinateSystem' xmlns:xsi='http://www.w3.org/2001/XMLSchema-instance' xmlns:xs='http://www.w3.org/2001/XMLSchema' xmlns:typens='http://www.esri.com/schemas/ArcGIS/2.7.0'&gt;&lt;WKT&gt;PROJCS[&amp;quot;WGS_1984_Web_Mercator_Auxiliary_Sphere&amp;quot;,GEOGCS[&amp;quot;GCS_WGS_1984&amp;quot;,DATUM[&amp;quot;D_WGS_1984&amp;quot;,SPHEROID[&amp;quot;WGS_1984&amp;quot;,6378137.0,298.257223563]],PRIMEM[&amp;quot;Greenwich&amp;quot;,0.0],UNIT[&amp;quot;Degree&amp;quot;,0.0174532925199433]],PROJECTION[&amp;quot;Mercator_Auxiliary_Sphere&amp;quot;],PARAMETER[&amp;quot;False_Easting&amp;quot;,0.0],PARAMETER[&amp;quot;False_Northing&amp;quot;,0.0],PARAMETER[&amp;quot;Central_Meridian&amp;quot;,0.0],PARAMETER[&amp;quot;Standard_Parallel_1&amp;quot;,0.0],PARAMETER[&amp;quot;Auxiliary_Sphere_Type&amp;quot;,0.0],UNIT[&amp;quot;Meter&amp;quot;,1.0],AUTHORITY[&amp;quot;EPSG&amp;quot;,3857]]&lt;/WKT&gt;&lt;XOrigin&gt;-20037700&lt;/XOrigin&gt;&lt;YOrigin&gt;-30241100&lt;/YOrigin&gt;&lt;XYScale&gt;148923141.92838538&lt;/XYScale&gt;&lt;ZOrigin&gt;-100000&lt;/ZOrigin&gt;&lt;ZScale&gt;10000&lt;/ZScale&gt;&lt;MOrigin&gt;-100000&lt;/MOrigin&gt;&lt;MScale&gt;10000&lt;/MScale&gt;&lt;XYTolerance&gt;0.001&lt;/XYTolerance&gt;&lt;ZTolerance&gt;0.001&lt;/ZTolerance&gt;&lt;MTolerance&gt;0.001&lt;/MTolerance&gt;&lt;HighPrecision&gt;true&lt;/HighPrecision&gt;&lt;WKID&gt;102100&lt;/WKID&gt;&lt;LatestWKID&gt;3857&lt;/LatestWKID&gt;&lt;/ProjectedCoordinateSystem&gt;</peXml>
</coordRef>
<RasterProperties>
<General>
<PixelDepth Sync="TRUE">8</PixelDepth>
<HasColormap Sync="TRUE">FALSE</HasColormap>
<CompressionType Sync="TRUE">None</CompressionType>
<NumBands Sync="TRUE">3</NumBands>
<Format Sync="TRUE">AMD</Format>
<HasPyramids Sync="TRUE">TRUE</HasPyramids>
<SourceType Sync="TRUE">continuous</SourceType>
<PixelType Sync="TRUE">unsigned integer</PixelType>
<NoDataValue Sync="TRUE">
</NoDataValue>
</General>
<Properties>
<MaxImageHeight Sync="TRUE">4100</MaxImageHeight>
<MaxImageWidth Sync="TRUE">15000</MaxImageWidth>
<MaxRecordCount Sync="TRUE">1000</MaxRecordCount>
<MaxDownloadImageCount Sync="TRUE">20</MaxDownloadImageCount>
<MaxDownloadSizeLimit Sync="TRUE">2048</MaxDownloadSizeLimit>
<MaxMosaicImageCount Sync="TRUE">20</MaxMosaicImageCount>
<DefaultCompressionQuality Sync="TRUE">75</DefaultCompressionQuality>
<DefaultCompressionTolerance Sync="TRUE">0.01</DefaultCompressionTolerance>
<BlendWidth Sync="TRUE">10</BlendWidth>
<ViewpointSpacingX Sync="TRUE">600</ViewpointSpacingX>
<ViewpointSpacingY Sync="TRUE">300</ViewpointSpacingY>
<AllowedItemMetadata Sync="TRUE">Basic</AllowedItemMetadata>
<DefaultResamplingMethod Sync="TRUE">1</DefaultResamplingMethod>
<AllowedMosaicMethods Sync="TRUE">NorthWest,Center,LockRaster,ByAttribute,Nadir,Viewpoint,Seamline,None</AllowedMosaicMethods>
<AllowedCompressions Sync="TRUE">None,JPEG,LZ77,LERC</AllowedCompressions>
<AllowedMensurationCapabilities Sync="TRUE">None</AllowedMensurationCapabilities>
<AvailableMensurationCapabilities Sync="TRUE">None,Basic,Base-Top Height,Top-Top Shadow Height,Base-Top Shadow Height,3D</AvailableMensurationCapabilities>
<ClipToBoundary Sync="TRUE">-1</ClipToBoundary>
<FootprintMayContainNoData Sync="TRUE">-1</FootprintMayContainNoData>
<CellSizeTolerance Sync="TRUE">0.8</CellSizeTolerance>
<MinimumPixelContribution Sync="TRUE">1</MinimumPixelContribution>
<AvailableMosaicMethods Sync="TRUE">NorthWest,Center,LockRaster,ByAttribute,Nadir,Viewpoint,Seamline,None</AvailableMosaicMethods>
<AvailableCompressionMethods Sync="TRUE">None,JPEG,LZ77,LERC</AvailableCompressionMethods>
<AvailableItemMetadataLevels Sync="TRUE">None,Basic,Full</AvailableItemMetadataLevels>
<BandDefinitionKeyword Sync="TRUE">NONE</BandDefinitionKeyword>
<_docversion_ Sync="TRUE">10</_docversion_>
<AllowedFields Sync="TRUE">Name,MinPS,MaxPS,LowPS,HighPS,Tag,GroupName,ProductName,CenterX,CenterY,ZOrder,Shape_Length,Shape_Area</AllowedFields>
<MaxCellSize Sync="TRUE">145679.983319983</MaxCellSize>
<LowCellSize Sync="TRUE">0.499588420164551</LowCellSize>
<HighCellSize Sync="TRUE">2913.59966639966</HighCellSize>
<PixelCacheLocation Sync="FALSE">withheld</PixelCacheLocation>
</Properties>
<Functions Sync="TRUE">
<Function Description="Performs on-the-fly mosaic on a raster catalog." Name="Mosaic Function">
</Function>
</Functions>
</RasterProperties>
</DataProperties>
<SyncDate>20210311</SyncDate>
<SyncTime>07404200</SyncTime>
<ModDate>20210311</ModDate>
<ModTime>07404200</ModTime>
</Esri>
<mdChar>
<CharSetCd value="004">
</CharSetCd>
</mdChar>
<mdHrLv>
<ScopeCd value="005">
</ScopeCd>
</mdHrLv>
<mdContact>
<rpIndName>GEO Branch</rpIndName>
<rpOrgName>USDA-FPAC-BC</rpOrgName>
<rpPosName>Geospatial Enterprise Operations Branch</rpPosName>
<rpCntInfo>
<cntPhone>
<voiceNum>817-509-3400</voiceNum>
<faxNum>817-509-3469</faxNum>
</cntPhone>
<cntAddress addressType="physical">
<delPoint>501 Felix, Bldg. 23</delPoint>
<city>Fort Worth</city>
<adminArea>TX</adminArea>
<postCode>76115</postCode>
<country>US</country>
</cntAddress>
</rpCntInfo>
<role>
<RoleCd value="007">
</RoleCd>
</role>
</mdContact>
<mdDateSt>20210304</mdDateSt>
<mdStanName>ArcGIS Metadata</mdStanName>
<mdStanVer>1.0</mdStanVer>
<distInfo>
<distributor>
<distorOrdPrc>
<resFees>None. No fees are applicable for obtaining the data set.</resFees>
</distorOrdPrc>
<distorFormat>
<formatName>Raster Digital Data Set</formatName>
</distorFormat>
</distributor>
</distInfo>
<dataIdInfo>
<idCitation>
<resTitle>State of Hawaii, Hawaiian Islands, Natural Color Orthoimagery Vivid Mosaic</resTitle>
<date>
<pubDate>2021-03-04</pubDate>
</date>
<citRespParty>
<rpOrgName>USDA-FPAC-BC-GEO Branch</rpOrgName>
<role>
<RoleCd value="006">
</RoleCd>
</role>
</citRespParty>
<presForm>
<PresFormCd value="raster digital data set">
</PresFormCd>
</presForm>
<presForm>
<fgdcGeoform>Raster Digital Data Set</fgdcGeoform>
</presForm>
</idCitation>
<idAbs>This is a licensed dataset from Maxar-DigitalGlobe, Inc. USDA-FPAC-BC-GEO Branch acquired this Hawaiian Islands Vivid Orthoimagery Mosaic dataset directly from Maxar-DigitalGlobe, Inc. USDA-FPAC-BC-GEO Branch upgraded the End User License Agreement(EULA)to users &gt;5 with the ability to publicly publish the dataset. The original received data cannot be downloaded via public access. Please contact USDA-FPAC-BC-GEO Branch for current license information on this dataset. The U.S. Government may provide the imagery to the following: State Governments, Local Governments, Foreign Governments and inter-governmental organizations, NGO's and other non-profit organizations including Government cooperators such as private citizens. Use of this product for Commercial Purposes by a person/company/organization for a profit or fee is strictly prohibited. Digital orthoimagery combines the image characteristics of a digital image with the geometric qualities of a map. The primary dynamic digital orthophoto is a 30-50 centimeter ground resolution, image cast to the customer specified projection and datum defined in the Spatial Reference Information section of this metadata document. The overedge is included to facilitate tonal matching for mosaicking and ensure full coverage if the imagery is reprojected. The normal orientation of data is by lines (rows) and samples (columns). Each line contains a series of pixels ordered from west to east with the order of the lines from north to south. Maxar-DigitalGlobe Vivid Standard Satellite Orthoimagery mosaic was delivered to USDA in GeoTIFF file format. Maxar-DigitalGlobe Vivid mosaic is from WV-2, WV-2, WV-4 and Geo1 satellites. Vivid Standard Orthoimagery dataset is .5 m/50 cm ground resolution, 4 Bands, 8 Bits Pan-Sharpen GeoTIFF files. The mosaic is cloud patched, tone matched and has a horizontal accuracy of 5 meters at CE 90%. The Maxar-DigitalGlobe Vivid Standard Satellite Composite Orthoimagery Mosaic contains 363 tiles for all of the Hawaiian Islands. 304 out of 363 tiles were collected in 2019-2020. The majority of the tiles from 2014-2016 are for an area in eastern Kauai. Please contact the Hawaii Statewide GIS Program with questions about this map service at gis@hawaii.gov.</idAbs>
<idPurp>The purpose is to provide USDA and the Federal government with updated Orthoimagery. Orthoimagery is used for disaster response, conservation planning,...</idPurp>
<idCredit>Web Map Service data provided by USDA-FPAC. Images provided © 2021 Maxar Technologies Inc.</idCredit>
<idStatus>
<ProgCd value="001">
</ProgCd>
</idStatus>
<resMaint>
<maintFreq>
<MaintFreqCd value="009">
</MaintFreqCd>
</maintFreq>
</resMaint>
<themeKeys>
<keyword>Orthoimagery</keyword>
<keyword>USDA-NRCS-NGCE</keyword>
<keyword>DOD-NGA</keyword>
<keyword>Maxar-DigitalGlobe Inc.</keyword>
<thesaName>
<resTitle>Oahu, Maui, Kauai, Molokai, Niihau, Lanai, Kahoolawe, Hawaii, Hawaiian Islands, Orthoimagery</resTitle>
</thesaName>
</themeKeys>
<searchKeys>
<keyword>Orthoimagery</keyword>
<keyword>USDA-NRCS-NGCE</keyword>
<keyword>DOD-NGA</keyword>
<keyword>Maxar-DigitalGlobe Inc.</keyword>
</searchKeys>
<resConst>
<Consts>
<useLimit>This is a licensed dataset from Maxar, Inc. USDA-FPAC-BC-GEO Branch acquired this Orthoimagery mosaic in December, 2020. Orthoimagery in this Vivid Standard mosaic is too be used under the &gt;5 license from Maxar, Inc. Please contact USDA-FPAC-BC-GEO Branch for current license information on this dataset. The U.S. Government may provide the imagery to the following organizations: All US Federal Government, State Governments, Local Governments, Foreign Governments, inter-governmental organizations, non-profit organizations, Universities and private citizens. Use of this product for Commercial Purposes by a person/company/organization for a profit or fee is strictly prohibited.</useLimit>
</Consts>
</resConst>
<resConst>
<LegConsts>
<useLimit>Distributor assumes no liability for misuse of data.</useLimit>
<accessConsts>
<RestrictCd value="008">
</RestrictCd>
</accessConsts>
<othConsts>See Details of Licensing defined in the Maxar-DigitalGlobe Product Guide located online at https://www.maxar.com/products/satellite-imagery. Orthoimagery in this mosaic is used under the &gt;5 license at Maxar-DigitalGlobe. You may post the Vivid Standard Mosaic Product and Derivative Works to publicly accessible Internet web sites provided that: (a) the original uncompresses data is not downloadable; (b) the proper copyright is conspicuously marked. b. You may make unlimited copies of the Product for internal or licensee use only; c. You may create Derivative Works in raster data format for internal or licensee use, including reformatting the Product into different formats or media from which it is delivered, modifying the Product through manipulation techniques and/or the addition of other data, and making copies of the resulting bundled image product; d. You may create Derivate Works in vector data format, with no restrictions on use and distribution; e. You may publish the Product, in a non-digital format and for a non-Commercial Purpose, in research reports or similar publications; and f. All Products or Derivative Works must contain the following copyright notice conspicuously displayed: "(c) Maxar, Inc. All Rights Reserved" for the Product, and "Includes copyrighted material of Maxar, Inc., All Rights Reserved" for Derivative Works.</othConsts>
</LegConsts>
</resConst>
<spatRpType>
<SpatRepTypCd value="002">
</SpatRepTypCd>
</spatRpType>
<envirDesc>Esri ArcGIS 10.7 (Build 4322) Service Pack N/A (Build N/A)</envirDesc>
<dataExt>
<geoEle>
<GeoBndBox>
<exTypeCode>true</exTypeCode>
<westBL>-160.263319</westBL>
<eastBL>-154.781627</eastBL>
<northBL>22.242779</northBL>
<southBL>18.874423</southBL>
</GeoBndBox>
</geoEle>
</dataExt>
<dataExt>
<exDesc>ground condition</exDesc>
<tempEle>
<TempExtent>
<exTemp>
<TM_Period>
<tmBegin>2014-12-06</tmBegin>
<tmEnd>2020-10-11</tmEnd>
</TM_Period>
</exTemp>
</TempExtent>
</tempEle>
<geoEle>
</geoEle>
</dataExt>
<suppInfo>Although these data have been processed successfully on a computer system at the U.S. Department of Agriculture, no warranty expressed or implied is made by the Agency regarding the utility of the data on any other system, nor shall the act of distribution constitute any such warranty. Any use of trade, product, or firm names is for descriptive purposes only and does not imply endorsement by the U.S. Government. The U.S. Department of Agriculture, nor any of its agencies are liable for misuse of the data, for damage, for transmission of viruses, or for computer contamination through the distribution of these data sets. The U.S. Department of Agriculture prohibits discrimination in its programs on the basis of race, color, national origin, sex, religion, age, disability, political beliefs, and marital or familial status. (Not all prohibited bases apply to all programs.</suppInfo>
<dataLang>
<languageCode Sync="TRUE" value="eng">
</languageCode>
<countryCode Sync="TRUE" value="USA">
</countryCode>
</dataLang>
<dataExt>
<geoEle>
<GeoBndBox esriExtentType="search">
<exTypeCode Sync="TRUE">1</exTypeCode>
<westBL Sync="TRUE">-160.576172</westBL>
<eastBL Sync="TRUE">-154.775391</eastBL>
<northBL Sync="TRUE">22.324219</northBL>
<southBL Sync="TRUE">18.896483</southBL>
</GeoBndBox>
</geoEle>
</dataExt>
</dataIdInfo>
<dqInfo>
<dqScope>
<scpLvl>
<ScopeCd value="005">
</ScopeCd>
</scpLvl>
</dqScope>
<report type="DQConcConsis">
<measDesc>No formal logical accuracy tests were conducted.</measDesc>
</report>
<report type="DQCompOm">
<measDesc>All Maxar-DigitalGlobe imagery is visually inspected for completeness to ensure that no gaps or image misplacements exist in the image area or in overedge coverage. DG ortho images may be derived by mosaicking multiple images, in order to insure complete coverage. Most Vivid Standard Orthoimagery is 3% cloud cover or less over land areas. Some clouds may be encountered within the imagery. </measDesc>
</report>
<dataLineage>
<prcStep>
<stepDesc>Maxar-DigitalGlobe Vivid Standard Orthoimagery was delivered to USDA in GeoTIFF file format. The mosaic is cloud patched, tone matched and has a horizontal accuracy of 5 meters at CE 90%. The Vivid Orthoimagery dataset is .5 m/50 cm ground resolution, 4 bands and 8 bits color depth.</stepDesc>
<stepDateTm>2020-12-07</stepDateTm>
</prcStep>
</dataLineage>
</dqInfo>
<spatRepInfo>
<Georect>
<numDims>3</numDims>
<axisDimension type="001">
<dimSize>136966</dimSize>
<dimResol>
<value Sync="TRUE" uom="m">0.499588</value>
</dimResol>
</axisDimension>
<axisDimension type="002">
<dimSize>175656</dimSize>
<dimResol>
<value Sync="TRUE" uom="m">0.499588</value>
</dimResol>
</axisDimension>
<axisDimension type="003">
<dimSize>3</dimSize>
</axisDimension>
<cellGeo>
<CellGeoCd Sync="TRUE" value="002">
</CellGeoCd>
</cellGeo>
<tranParaAv Sync="TRUE">1</tranParaAv>
<chkPtAv Sync="TRUE">0</chkPtAv>
<cornerPts>
<pos Sync="TRUE">-17875257.686700 2142752.255499</pos>
</cornerPts>
<cornerPts>
<pos Sync="TRUE">-17875257.686700 2550496.340500</pos>
</cornerPts>
<cornerPts>
<pos Sync="TRUE">-17229517.671747 2550496.340500</pos>
</cornerPts>
<cornerPts>
<pos Sync="TRUE">-17229517.671747 2142752.255499</pos>
</cornerPts>
<centerPt>
<pos Sync="TRUE">-17552387.679223 2346624.297999</pos>
</centerPt>
<ptInPixel>
<PixOrientCd Sync="TRUE" value="001">
</PixOrientCd>
</ptInPixel>
</Georect>
</spatRepInfo>
<mdLang>
<languageCode Sync="TRUE" value="eng">
</languageCode>
<countryCode Sync="TRUE" value="USA">
</countryCode>
</mdLang>
<refSysInfo>
<RefSystem>
<refSysID>
<identCode Sync="TRUE" code="3857">
</identCode>
<idCodeSpace Sync="TRUE">EPSG</idCodeSpace>
<idVersion Sync="TRUE">6.18.3(9.3.1.2)</idVersion>
</refSysID>
</RefSystem>
</refSysInfo>
<contInfo>
<ImgDesc>
<contentTyp>
<ContentTypCd Sync="TRUE" value="001">
</ContentTypCd>
</contentTyp>
<covDim>
<Band>
<dimDescrp Sync="TRUE">Band_1</dimDescrp>
<maxVal Sync="TRUE">255.000000</maxVal>
<minVal Sync="TRUE">0.000000</minVal>
<bitsPerVal Sync="TRUE">8</bitsPerVal>
<valUnit>
<UOM type="length">
</UOM>
</valUnit>
</Band>
<Band>
<dimDescrp Sync="TRUE">Band_2</dimDescrp>
<maxVal Sync="TRUE">255.000000</maxVal>
<minVal Sync="TRUE">0.000000</minVal>
<bitsPerVal Sync="TRUE">8</bitsPerVal>
<valUnit>
<UOM type="length">
</UOM>
</valUnit>
</Band>
<Band>
<dimDescrp Sync="TRUE">Band_3</dimDescrp>
<maxVal Sync="TRUE">255.000000</maxVal>
<minVal Sync="TRUE">0.000000</minVal>
<bitsPerVal Sync="TRUE">8</bitsPerVal>
<valUnit>
<UOM type="length">
</UOM>
</valUnit>
</Band>
</covDim>
</ImgDesc>
</contInfo>
</metadata>
