{
 "currentVersion": 11.5,
 "serviceDescription": "This is a licensed dataset from Maxar-DigitalGlobe, Inc. USDA-FPAC-BC-GEO Branch acquired this Hawaiian Islands Vivid Orthoimagery Mosaic dataset directly from Maxar-DigitalGlobe, Inc. USDA-FPAC-BC-GEO Branch upgraded the End User License Agreement(EULA)to users >5 with the ability to publicly publish the dataset. The original received data cannot be downloaded via public access. Please contact USDA-FPAC-BC-GEO Branch for current license information on this dataset. The U.S. Government may provide the imagery to the following: State Governments, Local Governments, Foreign Governments and inter-governmental organizations, NGO's and other non-profit organizations including Government cooperators such as private citizens. Use of this product for Commercial Purposes by a person/company/organization for a profit or fee is strictly prohibited. Digital orthoimagery combines the image characteristics of a digital image with the geometric qualities of a map. The primary dynamic digital orthophoto is a 30-50 centimeter ground resolution, image cast to the customer specified projection and datum defined in the Spatial Reference Information section of this metadata document. The overedge is included to facilitate tonal matching for mosaicking and ensure full coverage if the imagery is reprojected. The normal orientation of data is by lines (rows) and samples (columns). Each line contains a series of pixels ordered from west to east with the order of the lines from north to south. Maxar-DigitalGlobe Vivid Standard Satellite Orthoimagery mosaic was delivered to USDA in GeoTIFF file format. Maxar-DigitalGlobe Vivid mosaic is from WV-2, WV-2, WV-4 and Geo1 satellites. Vivid Standard Orthoimagery dataset is .5 m/50 cm ground resolution, 4 Bands, 8 Bits Pan-Sharpen GeoTIFF files. The mosaic is cloud patched, tone matched and has a horizontal accuracy of 5 meters at CE 90%. The Maxar-DigitalGlobe Vivid Standard Satellite Composite Orthoimagery Mosaic contains 363 tiles for all of the Hawaiian Islands. 304 out of 363 tiles were collected in 2019-2020. The majority of the tiles from 2014-2016 are for an area in eastern Kauai. Please contact the Hawaii Statewide GIS Program with questions about this map service at gis@hawaii.gov.",
 "name": "SoH_Imagery/Vivid_2020",
 "description": "This is a licensed dataset from Maxar-DigitalGlobe, Inc. USDA-FPAC-BC-GEO Branch acquired this Hawaiian Islands Vivid Orthoimagery Mosaic dataset directly from Maxar-DigitalGlobe, Inc. USDA-FPAC-BC-GEO Branch upgraded the End User License Agreement(EULA)to users >5 with the ability to publicly publish the dataset. The original received data cannot be downloaded via public access. Please contact USDA-FPAC-BC-GEO Branch for current license information on this dataset. The U.S. Government may provide the imagery to the following: State Governments, Local Governments, Foreign Governments and inter-governmental organizations, NGO's and other non-profit organizations including Government cooperators such as private citizens. Use of this product for Commercial Purposes by a person/company/organization for a profit or fee is strictly prohibited. Digital orthoimagery combines the image characteristics of a digital image with the geometric qualities of a map. The primary dynamic digital orthophoto is a 30-50 centimeter ground resolution, image cast to the customer specified projection and datum defined in the Spatial Reference Information section of this metadata document. The overedge is included to facilitate tonal matching for mosaicking and ensure full coverage if the imagery is reprojected. The normal orientation of data is by lines (rows) and samples (columns). Each line contains a series of pixels ordered from west to east with the order of the lines from north to south. Maxar-DigitalGlobe Vivid Standard Satellite Orthoimagery mosaic was delivered to USDA in GeoTIFF file format. Maxar-DigitalGlobe Vivid mosaic is from WV-2, WV-2, WV-4 and Geo1 satellites. Vivid Standard Orthoimagery dataset is .5 m/50 cm ground resolution, 4 Bands, 8 Bits Pan-Sharpen GeoTIFF files. The mosaic is cloud patched, tone matched and has a horizontal accuracy of 5 meters at CE 90%. The Maxar-DigitalGlobe Vivid Standard Satellite Composite Orthoimagery Mosaic contains 363 tiles for all of the Hawaiian Islands. 304 out of 363 tiles were collected in 2019-2020. The majority of the tiles from 2014-2016 are for an area in eastern Kauai. Please contact the Hawaii Statewide GIS Program with questions about this map service at gis@hawaii.gov.",
 "extent": {
  "xmin": -1.78752576867E7,
  "ymin": 2142752.2554985015,
  "xmax": -1.722951767174683E7,
  "ymax": 2550496.340500001,
  "spatialReference": {
   "wkid": 102100,
   "latestWkid": 3857
  }
 },
 "initialExtent": {
  "xmin": -1.78752576867E7,
  "ymin": 2142752.2554985015,
  "xmax": -1.722951767174683E7,
  "ymax": 2550496.340500001,
  "spatialReference": {
   "wkid": 102100,
   "latestWkid": 3857
  }
 },
 "fullExtent": {
  "xmin": -1.78752576867E7,
  "ymin": 2142752.2554985015,
  "xmax": -1.722951767174683E7,
  "ymax": 2550496.340500001,
  "spatialReference": {
   "wkid": 102100,
   "latestWkid": 3857
  }
 },
 "sortableFields": "",
 "bandCount": 3,
 "pixelType": "U8",
 "minValues": [
  0,
  0,
  0
 ],
 "maxValues": [
  255,
  255,
  255
 ],
 "meanValues": [
  45.89649340612161,
  57.50185888919907,
  49.73267602073356
 ],
 "stdvValues": [
  40.28024009762335,
  32.23961765265509,
  25.102696295382717
 ],
 "serviceProperties": "NorthWest<\/MosaicMethod>First<\/MosaicOperator>true<\/SortAscending><\/LockImageID>Name<\/TileOrderField>0<\/TileOrderBase>600.000000<\/AvgImageSpacingX>300.000000<\/AvgImageSpacingY>0.0<\/ViewPointX>0.0<\/ViewPointY>0.0<\/ViewPointDefShiftX>0.0<\/ViewPointDefShiftY>None<\/CompressionMethod>75<\/CompressionQuality>0.010000<\/CompressionTolerance>Bilinear<\/SamplingMethod><\/ImageServiceProperties><\/ImageServer>",
 "allowedFields": "Name,MinPS,MaxPS,LowPS,HighPS,Tag,GroupName,ProductName,CenterX,CenterY,ZOrder,Shape_Length,Shape_Area",
 "hasMultidimensions": false,
 "pixelSizeX": 0.49958842016455146,
 "pixelSizeY": 0.49958842016455035,
 "meanPixelSize": 0.4995884201645509,
 "datasetFormat": "AMD",
 "uncompressedSize": 3164768133120,
 "blockWidth": 2048,
 "blockHeight": 256,
 "compressionType": "None",
 "bandNames": [
  "Band_1",
  "Band_2",
  "Band_3"
 ],
 "allowCopy": true,
 "allowAnalysis": true,
 "itemAccess": false,
 "inspectionCapabilities": "",
 "minPixelSize": 0,
 "maxPixelSize": 0,
 "copyrightText": "Web Map Service data provided by USDA-FPAC. Images provided © 2021 Maxar Technologies Inc.",
 "serviceDataType": "esriImageServiceDataTypeRGB",
 "serviceSourceType": "esriImageServiceSourceTypeMosaicDataset",
 "objectIdField": "OBJECTID",
 "fields": [
  {
   "name": "OBJECTID",
   "type": "esriFieldTypeOID",
   "alias": "OBJECTID",
   "domain": null
  },
  {
   "name": "Shape",
   "type": "esriFieldTypeGeometry",
   "alias": "Shape",
   "domain": null
  },
  {
   "name": "Name",
   "type": "esriFieldTypeString",
   "alias": "Name",
   "domain": null,
   "length": 200
  },
  {
   "name": "MinPS",
   "type": "esriFieldTypeDouble",
   "alias": "MinPS",
   "domain": null
  },
  {
   "name": "MaxPS",
   "type": "esriFieldTypeDouble",
   "alias": "MaxPS",
   "domain": null
  },
  {
   "name": "LowPS",
   "type": "esriFieldTypeDouble",
   "alias": "LowPS",
   "domain": null
  },
  {
   "name": "HighPS",
   "type": "esriFieldTypeDouble",
   "alias": "HighPS",
   "domain": null
  },
  {
   "name": "Category",
   "type": "esriFieldTypeInteger",
   "alias": "Category",
   "domain": {
    "type": "codedValue",
    "name": "MosaicCatalogItemCategoryDomain",
    "description": "Catalog item categories.",
    "codedValues": [
     {
      "name": "Unknown",
      "code": 0
     },
     {
      "name": "Primary",
      "code": 1
     },
     {
      "name": "Overview",
      "code": 2
     },
     {
      "name": "Unprocessed Overview",
      "code": 3
     },
     {
      "name": "Partial Overview",
      "code": 4
     },
     {
      "name": "Inactive",
      "code": 5
     },
     {
      "name": "Uploaded",
      "code": 253
     },
     {
      "name": "Incomplete",
      "code": 254
     },
     {
      "name": "Custom",
      "code": 255
     }
    ],
    "mergePolicy": "esriMPTDefaultValue",
    "splitPolicy": "esriSPTDefaultValue"
   }
  },
  {
   "name": "Tag",
   "type": "esriFieldTypeString",
   "alias": "Tag",
   "domain": null,
   "length": 100
  },
  {
   "name": "GroupName",
   "type": "esriFieldTypeString",
   "alias": "GroupName",
   "domain": null,
   "length": 100
  },
  {
   "name": "ProductName",
   "type": "esriFieldTypeString",
   "alias": "ProductName",
   "domain": null,
   "length": 100
  },
  {
   "name": "CenterX",
   "type": "esriFieldTypeDouble",
   "alias": "CenterX",
   "domain": null
  },
  {
   "name": "CenterY",
   "type": "esriFieldTypeDouble",
   "alias": "CenterY",
   "domain": null
  },
  {
   "name": "ZOrder",
   "type": "esriFieldTypeInteger",
   "alias": "ZOrder",
   "domain": null
  },
  {
   "name": "Shape_Length",
   "type": "esriFieldTypeDouble",
   "alias": "Shape_Length",
   "domain": null
  },
  {
   "name": "Shape_Area",
   "type": "esriFieldTypeDouble",
   "alias": "Shape_Area",
   "domain": null
  }
 ],
 "capabilities": "Catalog,Image,Metadata",
 "defaultMosaicMethod": "Northwest",
 "allowedMosaicMethods": "NorthWest,Center,LockRaster,ByAttribute,Nadir,Viewpoint,Seamline,None",
 "sortField": "",
 "sortValue": null,
 "sortAscending": true,
 "mosaicOperator": "First",
 "maxDownloadSizeLimit": 2048,
 "defaultCompressionQuality": 75,
 "defaultResamplingMethod": "Bilinear",
 "maxImageHeight": 4100,
 "maxImageWidth": 15000,
 "maxRecordCount": 1000,
 "maxDownloadImageCount": 20,
 "maxMosaicImageCount": 20,
 "allowRasterFunction": true,
 "rasterFunctionInfos": [
  {
   "name": "None",
   "description": "",
   "help": ""
  }
 ],
 "rasterTypeInfos": [
  {
   "name": "Raster Dataset",
   "description": "Supports all ArcGIS Raster Datasets",
   "help": ""
  }
 ],
 "mensurationCapabilities": "None",
 "hasHistograms": true,
 "hasColormap": false,
 "hasRasterAttributeTable": false,
 "minScale": 0,
 "maxScale": 0,
 "exportTilesAllowed": false,
 "supportsStatistics": true,
 "supportsAdvancedQueries": true,
 "editFieldsInfo": null,
 "ownershipBasedAccessControlForRasters": null,
 "allowComputeTiePoints": false,
 "useStandardizedQueries": true,
 "advancedQueryCapabilities": {
  "useStandardizedQueries": true,
  "supportsStatistics": true,
  "supportsOrderBy": true,
  "supportsDistinct": true,
  "supportsPagination": true
 },
 "spatialReference": {
  "wkid": 102100,
  "latestWkid": 3857
 },
 "resampling": false
}
