{
 "currentVersion": 11.5,
 "serviceDescription": "This is a licensed dataset from DigitalGlobe, Inc. USDA-NRCS acquired this dataset from the US Department of Defense - National Geospatial-Intelligence Agency. USDA-NRCS & DOD-NGA upgraded the NextView license to Enterprise Premium in 2018. This dataset can be used under both the Enterprise Premium and NextView licenses from DigitalGlobe. Please contact USDA-NRCS-National Geospatial Center of Excellence (NGCE) for current license information on this dataset. The U.S. Government may provide the imagery to the following organizations: State Governments, Local Governments, Foreign Governments and inter-governmental organizations, NGO's and other non-profit organizations including Government cooperators such as private citizens. Use of this product for Commercial Purposes by a person/company/organization for a profit or fee is strictly prohibited. Please refer to the separately attached license (nextview.txt) from DigitalGlobe, Inc. for additional information. Please contact USDA-NRCS-National Geospatial Center of Excellence (NGCE) for current license information on this dataset. The U.S. Government may provide the imagery to the following organizations: All US Federal Government, State Governments, Local Governments, Foreign Governments, inter-governmental organizations, non-profit organizations and Universities. Use of this product for Commercial Purposes by a person/company/organization for a profit or fee is strictly prohibited. Please refer to the separately attached license from DigitalGlobe, Inc. for additional information. Digital orthoimagery combines the image characteristics of a digital image with the geometric qualities of a map. The primary dynamic digital orthophoto is a 30-50 centimeter ground resolution, image cast to the customer specified projection and datum defined in the Spatial Reference Information section of this metadata document. The overedge is included to facilitate tonal matching for mosaicking and ensure full coverage if the imagery is reprojected. The normal orientation of data is by lines (rows) and samples (columns). Each line contains a series of pixels ordered from west to east with the order of the lines from north to south. DigitalGlobe WorldView-2(WV-2)/WorldView-3(WV-3) Satellite Orthoimagery was delivered to USDA in GeoTIFF file format. The NGCE processed the DigitalGlobe delivered WV-2/WV-3, 8 Band, 8 Bit Pan-Sharpen GeoTIFF files. The file contains eight Multi-Spectral bands. Band 1: Coastal Blue (400 - 450 nm) Band 2: Blue (450 - 510 nm) Band 3: Green (510 - 580 nm) Band 4: Yellow (585 - 625 nm) Band 5: Red (625 - 690 nm) Band 6: Red Edge (705 - 745 nm) Band 7: Color Infrared 1/NIR 1 (770 - 895 nm) Band 8: Color Infrared 2/NIR 2 (860 - 1040 nm). This NGCE created files can consist of Natural Color (Bands 5-3-2), Color Infrared/CIR (Bands 7-5-3) or 8 Multi-Spectral bands (Bands 1-8).",
 "name": "SoH_Imagery/WV2_2018",
 "description": "This is a licensed dataset from DigitalGlobe, Inc. USDA-NRCS acquired this dataset from the US Department of Defense - National Geospatial-Intelligence Agency. USDA-NRCS & DOD-NGA upgraded the NextView license to Enterprise Premium in 2018. This dataset can be used under both the Enterprise Premium and NextView licenses from DigitalGlobe. Please contact USDA-NRCS-National Geospatial Center of Excellence (NGCE) for current license information on this dataset. The U.S. Government may provide the imagery to the following organizations: State Governments, Local Governments, Foreign Governments and inter-governmental organizations, NGO's and other non-profit organizations including Government cooperators such as private citizens. Use of this product for Commercial Purposes by a person/company/organization for a profit or fee is strictly prohibited. Please refer to the separately attached license (nextview.txt) from DigitalGlobe, Inc. for additional information. Please contact USDA-NRCS-National Geospatial Center of Excellence (NGCE) for current license information on this dataset. The U.S. Government may provide the imagery to the following organizations: All US Federal Government, State Governments, Local Governments, Foreign Governments, inter-governmental organizations, non-profit organizations and Universities. Use of this product for Commercial Purposes by a person/company/organization for a profit or fee is strictly prohibited. Please refer to the separately attached license from DigitalGlobe, Inc. for additional information. Digital orthoimagery combines the image characteristics of a digital image with the geometric qualities of a map. The primary dynamic digital orthophoto is a 30-50 centimeter ground resolution, image cast to the customer specified projection and datum defined in the Spatial Reference Information section of this metadata document. The overedge is included to facilitate tonal matching for mosaicking and ensure full coverage if the imagery is reprojected. The normal orientation of data is by lines (rows) and samples (columns). Each line contains a series of pixels ordered from west to east with the order of the lines from north to south. DigitalGlobe WorldView-2(WV-2)/WorldView-3(WV-3) Satellite Orthoimagery was delivered to USDA in GeoTIFF file format. The NGCE processed the DigitalGlobe delivered WV-2/WV-3, 8 Band, 8 Bit Pan-Sharpen GeoTIFF files. The file contains eight Multi-Spectral bands. Band 1: Coastal Blue (400 - 450 nm) Band 2: Blue (450 - 510 nm) Band 3: Green (510 - 580 nm) Band 4: Yellow (585 - 625 nm) Band 5: Red (625 - 690 nm) Band 6: Red Edge (705 - 745 nm) Band 7: Color Infrared 1/NIR 1 (770 - 895 nm) Band 8: Color Infrared 2/NIR 2 (860 - 1040 nm). This NGCE created files can consist of Natural Color (Bands 5-3-2), Color Infrared/CIR (Bands 7-5-3) or 8 Multi-Spectral bands (Bands 1-8).",
 "extent": {
  "xmin": -1.78404310953E7,
  "ymin": 2140156.8069000044,
  "xmax": -1.723021189530001E7,
  "ymax": 2540698.8068999983,
  "spatialReference": {
   "wkid": 102100,
   "latestWkid": 3857
  }
 },
 "initialExtent": {
  "xmin": -1.78404310953E7,
  "ymin": 2140156.8069000044,
  "xmax": -1.723021189530001E7,
  "ymax": 2540698.8068999983,
  "spatialReference": {
   "wkid": 102100,
   "latestWkid": 3857
  }
 },
 "fullExtent": {
  "xmin": -1.78404310953E7,
  "ymin": 2140156.8069000044,
  "xmax": -1.723021189530001E7,
  "ymax": 2540698.8068999983,
  "spatialReference": {
   "wkid": 102100,
   "latestWkid": 3857
  }
 },
 "sortableFields": "",
 "bandCount": 3,
 "pixelType": "U8",
 "minValues": [
  0,
  0,
  0
 ],
 "maxValues": [
  255,
  255,
  255
 ],
 "meanValues": [
  43.617547825098335,
  47.72864416596657,
  47.27816984697507
 ],
 "stdvValues": [
  44.48878688221077,
  46.1910422863259,
  45.6507663860377
 ],
 "serviceProperties": "NorthWest<\/MosaicMethod>First<\/MosaicOperator>true<\/SortAscending><\/LockImageID>Name<\/TileOrderField>0<\/TileOrderBase>600.000000<\/AvgImageSpacingX>300.000000<\/AvgImageSpacingY>0.0<\/ViewPointX>0.0<\/ViewPointY>0.0<\/ViewPointDefShiftX>0.0<\/ViewPointDefShiftY>None<\/CompressionMethod>75<\/CompressionQuality>0.010000<\/CompressionTolerance>Bilinear<\/SamplingMethod><\/ImageServiceProperties><\/ImageServer>",
 "allowedFields": "Name,MinPS,MaxPS,LowPS,HighPS,Tag,GroupName,ProductName,CenterX,CenterY,ZOrder,Shape_Length,Shape_Area",
 "hasMultidimensions": false,
 "pixelSizeX": 0.39999999999999464,
 "pixelSizeY": 0.39999999999999397,
 "meanPixelSize": 0.3999999999999943,
 "datasetFormat": "AMD",
 "uncompressedSize": 4582845352620,
 "blockWidth": 2048,
 "blockHeight": 256,
 "compressionType": "None",
 "bandNames": [
  "Band_1",
  "Band_2",
  "Band_3"
 ],
 "allowCopy": true,
 "allowAnalysis": true,
 "itemAccess": false,
 "inspectionCapabilities": "",
 "noDataValue": 256,
 "noDataValues": [
  256,
  256,
  256
 ],
 "minPixelSize": 0,
 "maxPixelSize": 0,
 "copyrightText": "USDA-NRCS-National Geospatial Center of Excellence, DOD-NGA",
 "serviceDataType": "esriImageServiceDataTypeRGB",
 "serviceSourceType": "esriImageServiceSourceTypeMosaicDataset",
 "objectIdField": "OBJECTID",
 "fields": [
  {
   "name": "OBJECTID",
   "type": "esriFieldTypeOID",
   "alias": "OBJECTID",
   "domain": null
  },
  {
   "name": "Shape",
   "type": "esriFieldTypeGeometry",
   "alias": "Shape",
   "domain": null
  },
  {
   "name": "Name",
   "type": "esriFieldTypeString",
   "alias": "Name",
   "domain": null,
   "length": 200
  },
  {
   "name": "MinPS",
   "type": "esriFieldTypeDouble",
   "alias": "MinPS",
   "domain": null
  },
  {
   "name": "MaxPS",
   "type": "esriFieldTypeDouble",
   "alias": "MaxPS",
   "domain": null
  },
  {
   "name": "LowPS",
   "type": "esriFieldTypeDouble",
   "alias": "LowPS",
   "domain": null
  },
  {
   "name": "HighPS",
   "type": "esriFieldTypeDouble",
   "alias": "HighPS",
   "domain": null
  },
  {
   "name": "Category",
   "type": "esriFieldTypeInteger",
   "alias": "Category",
   "domain": {
    "type": "codedValue",
    "name": "MosaicCatalogItemCategoryDomain",
    "description": "Catalog item categories.",
    "codedValues": [
     {
      "name": "Unknown",
      "code": 0
     },
     {
      "name": "Primary",
      "code": 1
     },
     {
      "name": "Overview",
      "code": 2
     },
     {
      "name": "Unprocessed Overview",
      "code": 3
     },
     {
      "name": "Partial Overview",
      "code": 4
     },
     {
      "name": "Inactive",
      "code": 5
     },
     {
      "name": "Uploaded",
      "code": 253
     },
     {
      "name": "Incomplete",
      "code": 254
     },
     {
      "name": "Custom",
      "code": 255
     }
    ],
    "mergePolicy": "esriMPTDefaultValue",
    "splitPolicy": "esriSPTDefaultValue"
   }
  },
  {
   "name": "Tag",
   "type": "esriFieldTypeString",
   "alias": "Tag",
   "domain": null,
   "length": 100
  },
  {
   "name": "GroupName",
   "type": "esriFieldTypeString",
   "alias": "GroupName",
   "domain": null,
   "length": 100
  },
  {
   "name": "ProductName",
   "type": "esriFieldTypeString",
   "alias": "ProductName",
   "domain": null,
   "length": 100
  },
  {
   "name": "CenterX",
   "type": "esriFieldTypeDouble",
   "alias": "CenterX",
   "domain": null
  },
  {
   "name": "CenterY",
   "type": "esriFieldTypeDouble",
   "alias": "CenterY",
   "domain": null
  },
  {
   "name": "ZOrder",
   "type": "esriFieldTypeInteger",
   "alias": "ZOrder",
   "domain": null
  },
  {
   "name": "Shape_Length",
   "type": "esriFieldTypeDouble",
   "alias": "Shape_Length",
   "domain": null
  },
  {
   "name": "Shape_Area",
   "type": "esriFieldTypeDouble",
   "alias": "Shape_Area",
   "domain": null
  }
 ],
 "capabilities": "Catalog,Image,Metadata",
 "defaultMosaicMethod": "Northwest",
 "allowedMosaicMethods": "NorthWest,Center,LockRaster,ByAttribute,Nadir,Viewpoint,Seamline,None",
 "sortField": "",
 "sortValue": null,
 "sortAscending": true,
 "mosaicOperator": "First",
 "maxDownloadSizeLimit": 2048,
 "defaultCompressionQuality": 75,
 "defaultResamplingMethod": "Bilinear",
 "maxImageHeight": 4100,
 "maxImageWidth": 15000,
 "maxRecordCount": 1000,
 "maxDownloadImageCount": 20,
 "maxMosaicImageCount": 20,
 "allowRasterFunction": true,
 "rasterFunctionInfos": [
  {
   "name": "None",
   "description": "A No-Op Function.",
   "help": ""
  }
 ],
 "rasterTypeInfos": [
  {
   "name": "Raster Dataset",
   "description": "Supports all ArcGIS Raster Datasets",
   "help": ""
  }
 ],
 "mensurationCapabilities": "None",
 "hasHistograms": true,
 "hasColormap": false,
 "hasRasterAttributeTable": false,
 "minScale": 0,
 "maxScale": 0,
 "exportTilesAllowed": false,
 "supportsStatistics": true,
 "supportsAdvancedQueries": true,
 "editFieldsInfo": null,
 "ownershipBasedAccessControlForRasters": null,
 "allowComputeTiePoints": false,
 "useStandardizedQueries": true,
 "advancedQueryCapabilities": {
  "useStandardizedQueries": true,
  "supportsStatistics": true,
  "supportsOrderBy": true,
  "supportsDistinct": true,
  "supportsPagination": true
 },
 "spatialReference": {
  "wkid": 102100,
  "latestWkid": 3857
 },
 "resampling": false
}
