View In:
ArcGIS JavaScript
ArcGIS Online Map Viewer
ArcGIS Earth
Service Description: Digital Surface Model of parts of Maui and Molokai. Partial coverage Vexcel, Inc. LIDAR of Maui and Molokai were purchased by County of Maui to assist with three-dimensional modeling of structures in areas of higher development. 1'/px, LIDAR-derived, digital surface elevation raster of parts of Maui and Molokai – specifically, Central Molokai, Kahului, Kihei, Lahaina and Pukalani. XY units: feet, Z units: meters. Use Limitations: 1.Disclaimer - This dataset is being placed in the public domain. Any use is allowed except for re-sale. Neither Vexcel, Inc., the County of Maui, nor the State of Hawaii make any guarantees, expressed or implied, regarding its accuracy or fitness of use. Users should verify XYZ values through a licensed surveyor for any engineering application. This data should only be used as a guide, vs. a statement of fact regarding real-world conditions. 2.Vertical Datum - The originator of this LIDAR dataset, Vexcel Inc. of Boulder, Colorado referenced Z values to the North American Vertical Datum of 1988 (NAVD88). NAVD88 is not recognized as a valid vertical reference for the state of Hawaii. Currently Hawaii has no official (de jure or de facto) vertical datum, and NOAA's National Geodetic Survey (NGS) recommends that elevations be referenced to the nearest NOAA tidal gauge. A legacy LIDAR dataset produced in 2013 by the United States Army Corps of Engineers (USACE) used NAD83(PA11) as its vertical reference. In theory this approach should result in better accuracy for the Z dimension as PA11 is a Pacific plate-centric datum. In comparing flat areas containing neither structures or vegetation, it was found that the Vexcel values sit approximately 4 feet above the USACE dataset. The vertical datum issue was brought to the attention of Vexcel, Inc. Vexcel used the 2013 USACE LIDAR as vertical control to correct their LIDAR data. The (corrected) .las data is shared as it was delivered. As stated above, the use of this data transfers all risks and assumption of responsibility to the user. For more information see https://files.hawaii.gov/dbedt/op/gis/data/Maui_2019_DSM.html or contact County of Maui at GISMonitor@co.maui.hi.us or Hawaii Statewide GIS Program at gis@hawaii.gov.
Name: SoH_Imagery/Maui_2019_DSM
Description: Digital Surface Model of parts of Maui and Molokai. Partial coverage Vexcel, Inc. LIDAR of Maui and Molokai were purchased by County of Maui to assist with three-dimensional modeling of structures in areas of higher development. 1'/px, LIDAR-derived, digital surface elevation raster of parts of Maui and Molokai – specifically, Central Molokai, Kahului, Kihei, Lahaina and Pukalani. XY units: feet, Z units: meters. Use Limitations: 1.Disclaimer - This dataset is being placed in the public domain. Any use is allowed except for re-sale. Neither Vexcel, Inc., the County of Maui, nor the State of Hawaii make any guarantees, expressed or implied, regarding its accuracy or fitness of use. Users should verify XYZ values through a licensed surveyor for any engineering application. This data should only be used as a guide, vs. a statement of fact regarding real-world conditions. 2.Vertical Datum - The originator of this LIDAR dataset, Vexcel Inc. of Boulder, Colorado referenced Z values to the North American Vertical Datum of 1988 (NAVD88). NAVD88 is not recognized as a valid vertical reference for the state of Hawaii. Currently Hawaii has no official (de jure or de facto) vertical datum, and NOAA's National Geodetic Survey (NGS) recommends that elevations be referenced to the nearest NOAA tidal gauge. A legacy LIDAR dataset produced in 2013 by the United States Army Corps of Engineers (USACE) used NAD83(PA11) as its vertical reference. In theory this approach should result in better accuracy for the Z dimension as PA11 is a Pacific plate-centric datum. In comparing flat areas containing neither structures or vegetation, it was found that the Vexcel values sit approximately 4 feet above the USACE dataset. The vertical datum issue was brought to the attention of Vexcel, Inc. Vexcel used the 2013 USACE LIDAR as vertical control to correct their LIDAR data. The (corrected) .las data is shared as it was delivered. As stated above, the use of this data transfers all risks and assumption of responsibility to the user. For more information see https://files.hawaii.gov/dbedt/op/gis/data/Maui_2019_DSM.html or contact County of Maui at GISMonitor@co.maui.hi.us or Hawaii Statewide GIS Program at gis@hawaii.gov.
Single Fused Map Cache: false
Extent:
XMin: -1.74930617316E7
YMin: 2344822.807782931
XMax: -1.7394301152478844E7
YMax: 2415631.3422
Spatial Reference: 102100
(3857)
Initial Extent:
XMin: -1.74930617316E7
YMin: 2344822.807782931
XMax: -1.7394301152478844E7
YMax: 2415631.3422
Spatial Reference: 102100
(3857)
Full Extent:
XMin: -1.74930617316E7
YMin: 2344822.807782931
XMax: -1.7394301152478844E7
YMax: 2415631.3422
Spatial Reference: 102100
(3857)
Pixel Size X: 0.304800609601217
Pixel Size Y: 0.30480060960122013
Band Count: 1
Pixel Type: F32
RasterFunction Infos: {"rasterFunctionInfos": [
{
"help": "",
"name": "GrayscaleHillshade",
"description": "A raster function template."
},
{
"help": "",
"name": "None",
"description": "Make a Raster or Raster Dataset into a Function Raster Dataset."
},
{
"help": "",
"name": "AspectRGBMap",
"description": "A raster function template."
},
{
"help": "",
"name": "SlopeRGBMap",
"description": "A raster function template."
}
]}
Mensuration Capabilities: None
Inspection Capabilities:
Has Histograms: true
Has Colormap: false
Has Multi Dimensions : false
Rendering Rule:
Min Scale: 0
Max Scale: 0
Resampling: false
Copyright Text: Dataset Credit: Vexcel Inc. of Boulder, Colorado, 2019
Service Data Type: esriImageServiceDataTypeGeneric
Min Values: -17.547544479370117
Max Values: 1724.709228515625
Mean Values: 265.08882413411845
Standard Deviation Values: 319.52200039095538
Object ID Field: OBJECTID
Fields:
-
OBJECTID
(
alias: OBJECTID, type: esriFieldTypeOID
)
-
Shape
(
alias: Shape, type: esriFieldTypeGeometry
)
-
Name
(
length: 200, alias: Name, type: esriFieldTypeString
)
-
MinPS
(
alias: MinPS, type: esriFieldTypeDouble
)
-
MaxPS
(
alias: MaxPS, type: esriFieldTypeDouble
)
-
LowPS
(
alias: LowPS, type: esriFieldTypeDouble
)
-
HighPS
(
alias: HighPS, type: esriFieldTypeDouble
)
-
Category
(
alias: Category, type: esriFieldTypeInteger
, Coded Values:
[0: Unknown]
, [1: Primary]
, [2: Overview]
, ...6 more...
)
-
Tag
(
length: 100, alias: Tag, type: esriFieldTypeString
)
-
GroupName
(
length: 100, alias: GroupName, type: esriFieldTypeString
)
-
ProductName
(
length: 100, alias: ProductName, type: esriFieldTypeString
)
-
CenterX
(
alias: CenterX, type: esriFieldTypeDouble
)
-
CenterY
(
alias: CenterY, type: esriFieldTypeDouble
)
-
ZOrder
(
alias: ZOrder, type: esriFieldTypeInteger
)
-
Shape_Length
(
alias: Shape_Length, type: esriFieldTypeDouble
)
-
Shape_Area
(
alias: Shape_Area, type: esriFieldTypeDouble
)
Default Mosaic Method: Northwest
Allowed Mosaic Methods: NorthWest,Center,LockRaster,ByAttribute,Nadir,Viewpoint,Seamline,None
SortField:
SortValue: N/A
Mosaic Operator: First
Default Compression Quality: 75
Default Resampling Method: Bilinear
Max Record Count: 1000
Max Image Height: 4100
Max Image Width: 15000
Max Download Image Count: 20
Max Mosaic Image Count: 20
Allow Raster Function: true
Allow Copy: true
Allow Analysis: true
Allow Compute TiePoints: false
Supports Statistics: true
Supports Advanced Queries: true
Use StandardizedQueries: true
Raster Type Infos:
Name: Raster Dataset
Description: Supports all ArcGIS Raster Datasets
Help:
Has Raster Attribute Table: false
Edit Fields Info: N/A
Ownership Based AccessControl For Rasters: N/A
Child Resources:
Info
Histograms
Statistics
Key Properties
Legend
Raster Function Infos
Supported Operations:
Export Image
Query
Identify
Compute Histograms
Compute Statistics Histograms
Get Samples
Compute Class Statistics
Query GPS Info
Find Images
Image to Map
Map to Image
Measure from Image
Image to Map Multiray
Query Boundary
Compute Pixel Location
Compute Angles
Validate
Project