View In:
ArcGIS JavaScript
ArcGIS Online Map Viewer
ArcGIS Earth
Service Description: Digital Terrain Model (bare earth) of parts of Maui and Molokai. Partial coverage Vexcel, Inc. LIDAR of Maui and Molokai were purchased by County of Maui to assist with three-dimensional modeling of structures in areas of higher development. 1'/px, LIDAR-derived, bare earth DEM/elevation raster of parts of Maui and Molokai – specifically, Central Molokai, Kahului, Kihei, Lahaina and Pukalani. XY units: feet, Z units: meters. Use Limitations: 1.Disclaimer - This dataset is being placed in the public domain. Any use is allowed except for re-sale. Neither Vexcel, Inc., the County of Maui, nor the State of Hawaii make any guarantees, expressed or implied, regarding its accuracy or fitness of use. Users should verify XYZ values through a licensed surveyor for any engineering application. This data should only be used as a guide, vs. a statement of fact regarding real-world conditions. 2.Vertical Datum - The originator of this LIDAR dataset, Vexcel Inc. of Boulder, Colorado referenced Z values to the North American Vertical Datum of 1988 (NAVD88). NAVD88 is not recognized as a valid vertical reference for the state of Hawaii. Currently Hawaii has no official (de jure or de facto) vertical datum, and NOAA's National Geodetic Survey (NGS) recommends that elevations be referenced to the nearest NOAA tidal gauge. A legacy LIDAR dataset produced in 2013 by the United States Army Corps of Engineers (USACE) used NAD83(PA11) as its vertical reference. In theory this approach should result in better accuracy for the Z dimension as PA11 is a Pacific plate-centric datum. In comparing flat areas containing neither structures or vegetation, it was found that the Vexcel values sit approximately 4 feet above the USACE dataset. The vertical datum issue was brought to the attention of Vexcel, Inc. Vexcel used the 2013 USACE LIDAR as vertical control to correct their LIDAR data. The (corrected) .las data is shared as it was delivered. As stated above, the use of this data transfers all risks and assumption of responsibility to the user. For more information see https://files.hawaii.gov/dbedt/op/gis/data/Maui_2019_DTM.html or contact County of Maui at GISMonitor@co.maui.hi.us or Hawaii Statewide GIS Program at gis@hawaii.gov.
Name: SoH_Imagery/Maui_2019_DTM_elevation
Description: Digital Terrain Model (bare earth) of parts of Maui and Molokai. Partial coverage Vexcel, Inc. LIDAR of Maui and Molokai were purchased by County of Maui to assist with three-dimensional modeling of structures in areas of higher development. 1'/px, LIDAR-derived, bare earth DEM/elevation raster of parts of Maui and Molokai – specifically, Central Molokai, Kahului, Kihei, Lahaina and Pukalani. XY units: feet, Z units: meters. Use Limitations: 1.Disclaimer - This dataset is being placed in the public domain. Any use is allowed except for re-sale. Neither Vexcel, Inc., the County of Maui, nor the State of Hawaii make any guarantees, expressed or implied, regarding its accuracy or fitness of use. Users should verify XYZ values through a licensed surveyor for any engineering application. This data should only be used as a guide, vs. a statement of fact regarding real-world conditions. 2.Vertical Datum - The originator of this LIDAR dataset, Vexcel Inc. of Boulder, Colorado referenced Z values to the North American Vertical Datum of 1988 (NAVD88). NAVD88 is not recognized as a valid vertical reference for the state of Hawaii. Currently Hawaii has no official (de jure or de facto) vertical datum, and NOAA's National Geodetic Survey (NGS) recommends that elevations be referenced to the nearest NOAA tidal gauge. A legacy LIDAR dataset produced in 2013 by the United States Army Corps of Engineers (USACE) used NAD83(PA11) as its vertical reference. In theory this approach should result in better accuracy for the Z dimension as PA11 is a Pacific plate-centric datum. In comparing flat areas containing neither structures or vegetation, it was found that the Vexcel values sit approximately 4 feet above the USACE dataset. The vertical datum issue was brought to the attention of Vexcel, Inc. Vexcel used the 2013 USACE LIDAR as vertical control to correct their LIDAR data. The (corrected) .las data is shared as it was delivered. As stated above, the use of this data transfers all risks and assumption of responsibility to the user. For more information see https://files.hawaii.gov/dbedt/op/gis/data/Maui_2019_DTM.html or contact County of Maui at GISMonitor@co.maui.hi.us or Hawaii Statewide GIS Program at gis@hawaii.gov.
Single Fused Map Cache: true
Tile Info:
- Height: 256
- Width: 256
- DPI: 96
-
Levels of Detail: 24
-
Level ID: 0
[ Start Tile, End Tile ]
- Resolution: 156543.03392799999
- Scale: 591657527.59155452
-
Level ID: 1
[ Start Tile, End Tile ]
- Resolution: 78271.516963999893
- Scale: 295828763.79577684
-
Level ID: 2
[ Start Tile, End Tile ]
- Resolution: 39135.758482000099
- Scale: 147914381.89788902
-
Level ID: 3
[ Start Tile, End Tile ]
- Resolution: 19567.879240999901
- Scale: 73957190.948943943
-
Level ID: 4
[ Start Tile, End Tile ]
- Resolution: 9783.9396204999593
- Scale: 36978595.474472001
-
Level ID: 5
[ Start Tile, End Tile ]
- Resolution: 4891.9698102499797
- Scale: 18489297.737236001
-
Level ID: 6
[ Start Tile, End Tile ]
- Resolution: 2445.9849051249898
- Scale: 9244648.8686180003
-
Level ID: 7
[ Start Tile, End Tile ]
- Resolution: 1222.9924525624899
- Scale: 4622324.4343089815
-
Level ID: 8
[ Start Tile, End Tile ]
- Resolution: 611.49622628138002
- Scale: 2311162.2171550011
-
Level ID: 9
[ Start Tile, End Tile ]
- Resolution: 305.74811314055802
- Scale: 1155581.1085770018
-
Level ID: 10
[ Start Tile, End Tile ]
- Resolution: 152.874056570411
- Scale: 577790.55428899976
-
Level ID: 11
[ Start Tile, End Tile ]
- Resolution: 76.437028285073197
- Scale: 288895.27714399982
-
Level ID: 12
[ Start Tile, End Tile ]
- Resolution: 38.218514142536598
- Scale: 144447.63857199991
-
Level ID: 13
[ Start Tile, End Tile ]
- Resolution: 19.109257071268299
- Scale: 72223.819285999954
-
Level ID: 14
[ Start Tile, End Tile ]
- Resolution: 9.5546285356341496
- Scale: 36111.909642999977
-
Level ID: 16
[ Start Tile, End Tile ]
- Resolution: 2.38865713397468
- Scale: 9027.9774109999817
-
Level ID: 17
[ Start Tile, End Tile ]
- Resolution: 1.1943285668550501
- Scale: 4513.9887049999988
-
Level ID: 18
[ Start Tile, End Tile ]
- Resolution: 0.59716428355981699
- Scale: 2256.9943529999996
-
Level ID: 19
[ Start Tile, End Tile ]
- Resolution: 0.29858214164761698
- Scale: 1128.4971760000012
-
Level ID: 20
[ Start Tile, End Tile ]
- Resolution: 0.14929107082380833
- Scale: 564.24858800000004
-
Level ID: 21
[ Start Tile, End Tile ]
- Resolution: 0.074645535411904163
- Scale: 282.12429400000002
-
Level ID: 22
[ Start Tile, End Tile ]
- Resolution: 0.037322767705952081
- Scale: 141.06214700000001
-
Level ID: 23
[ Start Tile, End Tile ]
- Resolution: 0.018661383852976041
- Scale: 70.531073500000005
- Format: LERC
- Compression Quality: 100000.0
- LERC Error: 0.1
- Origin: X: -2.0037508342787E7
Y: 2.0037508342787E7
- Spatial Reference: 102100
(3857)
Storage Info:
- Storage Format: esriMapCacheStorageModeCompactV2
- Packet Size: 128
Extent:
XMin: -1.7493061797051437E7
YMin: 2344822.8922582716
XMax: -1.739430127496936E7
YMax: 2415631.348567862
Spatial Reference: 102100
(3857)
Initial Extent:
XMin: -1.7493061797051437E7
YMin: 2344822.8922582716
XMax: -1.739430127496936E7
YMax: 2415631.348567862
Spatial Reference: 102100
(3857)
Full Extent:
XMin: -1.7493061797051437E7
YMin: 2344822.8922582716
XMax: -1.739430127496936E7
YMax: 2415631.348567862
Spatial Reference: 102100
(3857)
Pixel Size X: 0.29858214164762137
Pixel Size Y: 0.298582141647616
Band Count: 1
Pixel Type: F32
RasterFunction Infos: {"rasterFunctionInfos": [{
"help": "",
"name": "None",
"description": ""
}]}
Mensuration Capabilities: Basic
Inspection Capabilities:
Has Histograms: false
Has Colormap: false
Has Multi Dimensions : false
Rendering Rule:
Min Scale: 577790.55428899999
Max Scale: 70.531073500000005
Resampling: false
Copyright Text: Dataset Credit: Vexcel Inc. of Boulder, Colorado, 2019
Service Data Type: esriImageServiceDataTypeGeneric
Min Values: -1.9629552364349365
Max Values: 1724.1248779296875
Mean Values: 263.31426200742328
Standard Deviation Values: 318.75149665197557
Object ID Field:
Fields:
None
Default Mosaic Method: Center
Allowed Mosaic Methods:
SortField:
SortValue: N/A
Mosaic Operator: First
Default Compression Quality: 75
Default Resampling Method: Bilinear
Max Record Count: null
Max Image Height: 4100
Max Image Width: 15000
Max Download Image Count: null
Max Mosaic Image Count: null
Allow Raster Function: true
Allow Copy: true
Allow Analysis: true
Allow Compute TiePoints: false
Supports Statistics: false
Supports Advanced Queries: false
Use StandardizedQueries: false
Raster Type Infos:
Name: Raster Dataset
Description: Supports all ArcGIS Raster Datasets
Help:
Has Raster Attribute Table: false
Edit Fields Info: N/A
Ownership Based AccessControl For Rasters: N/A
Child Resources:
Info
Statistics
Key Properties
Legend
Raster Function Infos
Supported Operations:
Export Image
Identify
Measure
Compute Histograms
Compute Statistics Histograms
Get Samples
Compute Class Statistics
Query Boundary
Compute Pixel Location
Compute Angles
Validate
Project