View In:
ArcGIS JavaScript
ArcGIS Online Map Viewer
ArcGIS Earth
Service Description: Orthoimagery of the coastlines of the Main Hawaiian Islands, 2015; Resource Mapping Hawaii conducted aerial surveys between August - November 2015 to collect imagery at a spatial resolution of 2cm. Due to flight restrictions around airports and military bases, some areas of the coastline were omitted. The dataset covers an approximate 200m swath, with a variable amount of shoreline and nearshore water, and was processed into tiles of orthoimagery for GIS analysis of marine debris. Brian Neilson (Hawaii Department of Land and Natural Resources; Brian.J.Neilson@hawaii.gov) was the Principal Investigator on the “Hawaiian islands marine debris aerial imagery surveys” component of the PICES Project “Effects of marine debris caused by the Great Tsunami of 2011” funded by the Ministry of the Environment of Japan. The project coordinator was Dr. Alexander Bychkov (bychkov@pices.int). In 2020, Ross Winans (winans2@hawaii.edu) enhanced the imagery by: removing excessive no-data (including cropping out areas of no-data in some images); creating alpha masks with GINA's gdal_trace_outline for transparency since the data uses "0" and "255" for valid data; for areas in the data where places were "patched" with a second, overlapping image swath at a later date, the image that best aligned with the GIS labeled marine debris objects described in Moy et al. (2018) were chosen and the unused overlap was cropped out, resulting in a data set that is now tiled edge-to-edge with no overlap. For further information, please contact the Hawaii Statewide GIS Program at gis@hawaii.gov. Credits: Resource Mapping Hawaii; Ross Winans
Name: SoH_Imagery/Coastal_2015
Description: Orthoimagery of the coastlines of the Main Hawaiian Islands, 2015; Resource Mapping Hawaii conducted aerial surveys between August - November 2015 to collect imagery at a spatial resolution of 2cm. Due to flight restrictions around airports and military bases, some areas of the coastline were omitted. The dataset covers an approximate 200m swath, with a variable amount of shoreline and nearshore water, and was processed into tiles of orthoimagery for GIS analysis of marine debris. Brian Neilson (Hawaii Department of Land and Natural Resources; Brian.J.Neilson@hawaii.gov) was the Principal Investigator on the “Hawaiian islands marine debris aerial imagery surveys” component of the PICES Project “Effects of marine debris caused by the Great Tsunami of 2011” funded by the Ministry of the Environment of Japan. The project coordinator was Dr. Alexander Bychkov (bychkov@pices.int). In 2020, Ross Winans (winans2@hawaii.edu) enhanced the imagery by: removing excessive no-data (including cropping out areas of no-data in some images); creating alpha masks with GINA's gdal_trace_outline for transparency since the data uses "0" and "255" for valid data; for areas in the data where places were "patched" with a second, overlapping image swath at a later date, the image that best aligned with the GIS labeled marine debris objects described in Moy et al. (2018) were chosen and the unused overlap was cropped out, resulting in a data set that is now tiled edge-to-edge with no overlap. For further information, please contact the Hawaii Statewide GIS Program at gis@hawaii.gov. Credits: Resource Mapping Hawaii; Ross Winans
Single Fused Map Cache: false
Extent:
XMin: -1.7838681833300002E7
YMin: 2144187.9638319863
XMax: -1.723285005595224E7
YMax: 2539784.5606999993
Spatial Reference: 102100
(3857)
Initial Extent:
XMin: -1.7838681833300002E7
YMin: 2144187.9638319863
XMax: -1.723285005595224E7
YMax: 2539784.5606999993
Spatial Reference: 102100
(3857)
Full Extent:
XMin: -1.7838681833300002E7
YMin: 2144187.9638319863
XMax: -1.723285005595224E7
YMax: 2539784.5606999993
Spatial Reference: 102100
(3857)
Pixel Size X: 0.019854140914723272
Pixel Size Y: 0.019854140914723324
Band Count: 3
Pixel Type: U8
RasterFunction Infos: {"rasterFunctionInfos": [{
"help": "",
"name": "None",
"description": "A No-Op Function."
}]}
Mensuration Capabilities: None
Inspection Capabilities:
Has Histograms: true
Has Colormap: false
Has Multi Dimensions : false
Rendering Rule:
Min Scale: 0
Max Scale: 0
Resampling: false
Copyright Text: Resource Mapping Hawaii; Ross Winans
Service Data Type: esriImageServiceDataTypeRGB
Min Values: 15, 25, 12
Max Values: 173, 188, 188
Mean Values: 88.948117539026654, 101.84389348025726, 98.670339761248769
Standard Deviation Values: 25.607377364901254, 20.757440777385916, 23.579840271403132
Object ID Field: OBJECTID
Fields:
-
OBJECTID
(
alias: OBJECTID, type: esriFieldTypeOID
)
-
Shape
(
alias: Shape, type: esriFieldTypeGeometry
)
-
Name
(
length: 200, alias: Name, type: esriFieldTypeString
)
-
MinPS
(
alias: MinPS, type: esriFieldTypeDouble
)
-
MaxPS
(
alias: MaxPS, type: esriFieldTypeDouble
)
-
LowPS
(
alias: LowPS, type: esriFieldTypeDouble
)
-
HighPS
(
alias: HighPS, type: esriFieldTypeDouble
)
-
Category
(
alias: Category, type: esriFieldTypeInteger
, Coded Values:
[0: Unknown]
, [1: Primary]
, [2: Overview]
, ...6 more...
)
-
Tag
(
length: 100, alias: Tag, type: esriFieldTypeString
)
-
GroupName
(
length: 100, alias: GroupName, type: esriFieldTypeString
)
-
ProductName
(
length: 100, alias: ProductName, type: esriFieldTypeString
)
-
CenterX
(
alias: CenterX, type: esriFieldTypeDouble
)
-
CenterY
(
alias: CenterY, type: esriFieldTypeDouble
)
-
ZOrder
(
alias: ZOrder, type: esriFieldTypeInteger
)
-
Shape_Length
(
alias: Shape_Length, type: esriFieldTypeDouble
)
-
Shape_Area
(
alias: Shape_Area, type: esriFieldTypeDouble
)
Default Mosaic Method: Northwest
Allowed Mosaic Methods: NorthWest,Center,LockRaster,ByAttribute,Nadir,Viewpoint,Seamline,None
SortField:
SortValue: N/A
Mosaic Operator: First
Default Compression Quality: 75
Default Resampling Method: Bilinear
Max Record Count: 1000
Max Image Height: 4100
Max Image Width: 15000
Max Download Image Count: 20
Max Mosaic Image Count: 20
Allow Raster Function: true
Allow Copy: true
Allow Analysis: true
Allow Compute TiePoints: false
Supports Statistics: true
Supports Advanced Queries: true
Use StandardizedQueries: true
Raster Type Infos:
Name: Raster Dataset
Description: Supports all ArcGIS Raster Datasets
Help:
Has Raster Attribute Table: false
Edit Fields Info: N/A
Ownership Based AccessControl For Rasters: N/A
Child Resources:
Info
Histograms
Statistics
Key Properties
Legend
Raster Function Infos
Supported Operations:
Export Image
Query
Identify
Compute Histograms
Compute Statistics Histograms
Get Samples
Compute Class Statistics
Query GPS Info
Find Images
Image to Map
Map to Image
Measure from Image
Image to Map Multiray
Query Boundary
Compute Pixel Location
Compute Angles
Validate
Project