View In:
ArcGIS JavaScript
ArcGIS Online Map Viewer
ArcGIS Earth
Service Description: The 0.75 m/pixel Molokai historic aerial mosaic was created by rectifying eighty-two (82) source negative scans collected in 1950 by the United States Geologic Survey (USGS), and housed at the University of Hawaii, Manoa library. GIS/imagery processing was performed by the Geographic Analysis and Cartographic Services Department, County of Maui, Hawaii in 2016.
Name: SoH_Imagery/Molokai_1950_mosaic
Description: The 0.75 m/pixel Molokai historic aerial mosaic was created by rectifying eighty-two (82) source negative scans collected in 1950 by the United States Geologic Survey (USGS), and housed at the University of Hawaii, Manoa library. GIS/imagery processing was performed by the Geographic Analysis and Cartographic Services Department, County of Maui, Hawaii in 2016.
Single Fused Map Cache: false
Extent:
XMin: 674448.375
YMin: 2327861.105
XMax: 740152.875
YMax: 2350517.105
Spatial Reference: 26904
(26904)
Initial Extent:
XMin: 674448.375
YMin: 2327861.105
XMax: 740152.875
YMax: 2350517.105
Spatial Reference: 26904
(26904)
Full Extent:
XMin: 674448.375
YMin: 2327861.105
XMax: 740152.875
YMax: 2350517.105
Spatial Reference: 26904
(26904)
Pixel Size X: 0.75
Pixel Size Y: 0.75
Band Count: 1
Pixel Type: U8
RasterFunction Infos: {"rasterFunctionInfos": [{
"help": "",
"name": "None",
"description": ""
}]}
Mensuration Capabilities: Basic
Inspection Capabilities:
Has Histograms: true
Has Colormap: false
Has Multi Dimensions : false
Rendering Rule:
Min Scale: 0
Max Scale: 0
Resampling: false
Copyright Text: Peter M. Gehring, GIS Analyst, County of Maui, Hawaii, Geographic Analysis and Cartographic Services Department.Theodore Kwok, Geospatial Information Services Librarian, Government Document and Maps, University of Hawaii at Manoa Library
Service Data Type: esriImageServiceDataTypeGeneric
Min Values: 1
Max Values: 255
Mean Values: 126.95195120325999
Standard Deviation Values: 50.204571839627
Object ID Field:
Fields:
None
Default Mosaic Method: Center
Allowed Mosaic Methods:
SortField:
SortValue: N/A
Mosaic Operator: First
Default Compression Quality: 75
Default Resampling Method: Bilinear
Max Record Count: null
Max Image Height: 4100
Max Image Width: 15000
Max Download Image Count: null
Max Mosaic Image Count: null
Allow Raster Function: true
Allow Copy: true
Allow Analysis: true
Allow Compute TiePoints: false
Supports Statistics: false
Supports Advanced Queries: false
Use StandardizedQueries: false
Raster Type Infos:
Name: Raster Dataset
Description: Supports all ArcGIS Raster Datasets
Help:
Has Raster Attribute Table: false
Edit Fields Info: N/A
Ownership Based AccessControl For Rasters: N/A
Child Resources:
Info
Histograms
Statistics
Key Properties
Legend
Raster Function Infos
Supported Operations:
Export Image
Identify
Measure
Compute Histograms
Compute Statistics Histograms
Get Samples
Compute Class Statistics
Query Boundary
Compute Pixel Location
Compute Angles
Validate
Project