View In:
ArcGIS JavaScript
ArcGIS Online Map Viewer
ArcGIS Earth
Service Description: This is a licensed dataset from Maxar-DigitalGlobe, Inc. USDA-FPAC-BC-GEO Branch acquired this Hawaiian Islands Vivid Orthoimagery Mosaic dataset directly from Maxar-DigitalGlobe, Inc. USDA-FPAC-BC-GEO Branch upgraded the End User License Agreement(EULA)to users >5 with the ability to publicly publish the dataset. The original received data cannot be downloaded via public access. Please contact USDA-FPAC-BC-GEO Branch for current license information on this dataset. The U.S. Government may provide the imagery to the following: State Governments, Local Governments, Foreign Governments and inter-governmental organizations, NGO's and other non-profit organizations including Government cooperators such as private citizens. Use of this product for Commercial Purposes by a person/company/organization for a profit or fee is strictly prohibited. Digital orthoimagery combines the image characteristics of a digital image with the geometric qualities of a map. The primary dynamic digital orthophoto is a 30-50 centimeter ground resolution, image cast to the customer specified projection and datum defined in the Spatial Reference Information section of this metadata document. The overedge is included to facilitate tonal matching for mosaicking and ensure full coverage if the imagery is reprojected. The normal orientation of data is by lines (rows) and samples (columns). Each line contains a series of pixels ordered from west to east with the order of the lines from north to south. Maxar-DigitalGlobe Vivid Standard Satellite Orthoimagery mosaic was delivered to USDA in GeoTIFF file format. Maxar-DigitalGlobe Vivid mosaic is from WV-2, WV-2, WV-4 and Geo1 satellites. Vivid Standard Orthoimagery dataset is .5 m/50 cm ground resolution, 4 Bands, 8 Bits Pan-Sharpen GeoTIFF files. The mosaic is cloud patched, tone matched and has a horizontal accuracy of 5 meters at CE 90%. The Maxar-DigitalGlobe Vivid Standard Satellite Composite Orthoimagery Mosaic contains 363 tiles for all of the Hawaiian Islands. 304 out of 363 tiles were collected in 2019-2020. The majority of the tiles from 2014-2016 are for an area in eastern Kauai. Please contact the Hawaii Statewide GIS Program with questions about this map service at gis@hawaii.gov.
Name: SoH_Imagery/Vivid_2020
Description: This is a licensed dataset from Maxar-DigitalGlobe, Inc. USDA-FPAC-BC-GEO Branch acquired this Hawaiian Islands Vivid Orthoimagery Mosaic dataset directly from Maxar-DigitalGlobe, Inc. USDA-FPAC-BC-GEO Branch upgraded the End User License Agreement(EULA)to users >5 with the ability to publicly publish the dataset. The original received data cannot be downloaded via public access. Please contact USDA-FPAC-BC-GEO Branch for current license information on this dataset. The U.S. Government may provide the imagery to the following: State Governments, Local Governments, Foreign Governments and inter-governmental organizations, NGO's and other non-profit organizations including Government cooperators such as private citizens. Use of this product for Commercial Purposes by a person/company/organization for a profit or fee is strictly prohibited. Digital orthoimagery combines the image characteristics of a digital image with the geometric qualities of a map. The primary dynamic digital orthophoto is a 30-50 centimeter ground resolution, image cast to the customer specified projection and datum defined in the Spatial Reference Information section of this metadata document. The overedge is included to facilitate tonal matching for mosaicking and ensure full coverage if the imagery is reprojected. The normal orientation of data is by lines (rows) and samples (columns). Each line contains a series of pixels ordered from west to east with the order of the lines from north to south. Maxar-DigitalGlobe Vivid Standard Satellite Orthoimagery mosaic was delivered to USDA in GeoTIFF file format. Maxar-DigitalGlobe Vivid mosaic is from WV-2, WV-2, WV-4 and Geo1 satellites. Vivid Standard Orthoimagery dataset is .5 m/50 cm ground resolution, 4 Bands, 8 Bits Pan-Sharpen GeoTIFF files. The mosaic is cloud patched, tone matched and has a horizontal accuracy of 5 meters at CE 90%. The Maxar-DigitalGlobe Vivid Standard Satellite Composite Orthoimagery Mosaic contains 363 tiles for all of the Hawaiian Islands. 304 out of 363 tiles were collected in 2019-2020. The majority of the tiles from 2014-2016 are for an area in eastern Kauai. Please contact the Hawaii Statewide GIS Program with questions about this map service at gis@hawaii.gov.
Single Fused Map Cache: false
Extent:
XMin: -1.78752576867E7
YMin: 2142752.2554985015
XMax: -1.722951767174683E7
YMax: 2550496.340500001
Spatial Reference: 102100
(3857)
Initial Extent:
XMin: -1.78752576867E7
YMin: 2142752.2554985015
XMax: -1.722951767174683E7
YMax: 2550496.340500001
Spatial Reference: 102100
(3857)
Full Extent:
XMin: -1.78752576867E7
YMin: 2142752.2554985015
XMax: -1.722951767174683E7
YMax: 2550496.340500001
Spatial Reference: 102100
(3857)
Pixel Size X: 0.49958842016455146
Pixel Size Y: 0.49958842016455035
Band Count: 3
Pixel Type: U8
RasterFunction Infos: {"rasterFunctionInfos": [{
"help": "",
"name": "None",
"description": ""
}]}
Mensuration Capabilities: None
Inspection Capabilities:
Has Histograms: true
Has Colormap: false
Has Multi Dimensions : false
Rendering Rule:
Min Scale: 0
Max Scale: 0
Resampling: false
Copyright Text: Web Map Service data provided by USDA-FPAC. Images provided © 2021 Maxar Technologies Inc.
Service Data Type: esriImageServiceDataTypeRGB
Min Values: 0, 0, 0
Max Values: 255, 255, 255
Mean Values: 45.896493406121607, 57.50185888919907, 49.732676020733557
Standard Deviation Values: 40.280240097623349, 32.239617652655092, 25.102696295382717
Object ID Field: OBJECTID
Fields:
-
OBJECTID
(
alias: OBJECTID, type: esriFieldTypeOID
)
-
Shape
(
alias: Shape, type: esriFieldTypeGeometry
)
-
Name
(
length: 200, alias: Name, type: esriFieldTypeString
)
-
MinPS
(
alias: MinPS, type: esriFieldTypeDouble
)
-
MaxPS
(
alias: MaxPS, type: esriFieldTypeDouble
)
-
LowPS
(
alias: LowPS, type: esriFieldTypeDouble
)
-
HighPS
(
alias: HighPS, type: esriFieldTypeDouble
)
-
Category
(
alias: Category, type: esriFieldTypeInteger
, Coded Values:
[0: Unknown]
, [1: Primary]
, [2: Overview]
, ...6 more...
)
-
Tag
(
length: 100, alias: Tag, type: esriFieldTypeString
)
-
GroupName
(
length: 100, alias: GroupName, type: esriFieldTypeString
)
-
ProductName
(
length: 100, alias: ProductName, type: esriFieldTypeString
)
-
CenterX
(
alias: CenterX, type: esriFieldTypeDouble
)
-
CenterY
(
alias: CenterY, type: esriFieldTypeDouble
)
-
ZOrder
(
alias: ZOrder, type: esriFieldTypeInteger
)
-
Shape_Length
(
alias: Shape_Length, type: esriFieldTypeDouble
)
-
Shape_Area
(
alias: Shape_Area, type: esriFieldTypeDouble
)
Default Mosaic Method: Northwest
Allowed Mosaic Methods: NorthWest,Center,LockRaster,ByAttribute,Nadir,Viewpoint,Seamline,None
SortField:
SortValue: N/A
Mosaic Operator: First
Default Compression Quality: 75
Default Resampling Method: Bilinear
Max Record Count: 1000
Max Image Height: 4100
Max Image Width: 15000
Max Download Image Count: 20
Max Mosaic Image Count: 20
Allow Raster Function: true
Allow Copy: true
Allow Analysis: true
Allow Compute TiePoints: false
Supports Statistics: true
Supports Advanced Queries: true
Use StandardizedQueries: true
Raster Type Infos:
Name: Raster Dataset
Description: Supports all ArcGIS Raster Datasets
Help:
Has Raster Attribute Table: false
Edit Fields Info: N/A
Ownership Based AccessControl For Rasters: N/A
Child Resources:
Info
Histograms
Statistics
Key Properties
Legend
Raster Function Infos
Supported Operations:
Export Image
Query
Identify
Compute Histograms
Compute Statistics Histograms
Get Samples
Compute Class Statistics
Query GPS Info
Find Images
Image to Map
Map to Image
Measure from Image
Image to Map Multiray
Query Boundary
Compute Pixel Location
Compute Angles
Validate
Project