View In:
ArcGIS JavaScript
ArcGIS Online Map Viewer
ArcGIS Earth
Service Description: This is a licensed dataset from DigitalGlobe, Inc. USDA-NRCS acquired this dataset from the US Department of Defense - National Geospatial-Intelligence Agency. USDA-NRCS & DOD-NGA upgraded the NextView license to Enterprise Premium in 2018. This dataset can be used under both the Enterprise Premium and NextView licenses from DigitalGlobe. Please contact USDA-NRCS-National Geospatial Center of Excellence (NGCE) for current license information on this dataset. The U.S. Government may provide the imagery to the following organizations: State Governments, Local Governments, Foreign Governments and inter-governmental organizations, NGO's and other non-profit organizations including Government cooperators such as private citizens. Use of this product for Commercial Purposes by a person/company/organization for a profit or fee is strictly prohibited. Please refer to the separately attached license (nextview.txt) from DigitalGlobe, Inc. for additional information. Please contact USDA-NRCS-National Geospatial Center of Excellence (NGCE) for current license information on this dataset. The U.S. Government may provide the imagery to the following organizations: All US Federal Government, State Governments, Local Governments, Foreign Governments, inter-governmental organizations, non-profit organizations and Universities. Use of this product for Commercial Purposes by a person/company/organization for a profit or fee is strictly prohibited. Please refer to the separately attached license from DigitalGlobe, Inc. for additional information. Digital orthoimagery combines the image characteristics of a digital image with the geometric qualities of a map. The primary dynamic digital orthophoto is a 30-50 centimeter ground resolution, image cast to the customer specified projection and datum defined in the Spatial Reference Information section of this metadata document. The overedge is included to facilitate tonal matching for mosaicking and ensure full coverage if the imagery is reprojected. The normal orientation of data is by lines (rows) and samples (columns). Each line contains a series of pixels ordered from west to east with the order of the lines from north to south. DigitalGlobe WorldView-2(WV-2)/WorldView-3(WV-3) Satellite Orthoimagery was delivered to USDA in GeoTIFF file format. The NGCE processed the DigitalGlobe delivered WV-2/WV-3, 8 Band, 8 Bit Pan-Sharpen GeoTIFF files. The file contains eight Multi-Spectral bands. Band 1: Coastal Blue (400 - 450 nm) Band 2: Blue (450 - 510 nm) Band 3: Green (510 - 580 nm) Band 4: Yellow (585 - 625 nm) Band 5: Red (625 - 690 nm) Band 6: Red Edge (705 - 745 nm) Band 7: Color Infrared 1/NIR 1 (770 - 895 nm) Band 8: Color Infrared 2/NIR 2 (860 - 1040 nm). This NGCE created files can consist of Natural Color (Bands 5-3-2), Color Infrared/CIR (Bands 7-5-3) or 8 Multi-Spectral bands (Bands 1-8).
Name: SoH_Imagery/WV2_2018
Description: This is a licensed dataset from DigitalGlobe, Inc. USDA-NRCS acquired this dataset from the US Department of Defense - National Geospatial-Intelligence Agency. USDA-NRCS & DOD-NGA upgraded the NextView license to Enterprise Premium in 2018. This dataset can be used under both the Enterprise Premium and NextView licenses from DigitalGlobe. Please contact USDA-NRCS-National Geospatial Center of Excellence (NGCE) for current license information on this dataset. The U.S. Government may provide the imagery to the following organizations: State Governments, Local Governments, Foreign Governments and inter-governmental organizations, NGO's and other non-profit organizations including Government cooperators such as private citizens. Use of this product for Commercial Purposes by a person/company/organization for a profit or fee is strictly prohibited. Please refer to the separately attached license (nextview.txt) from DigitalGlobe, Inc. for additional information. Please contact USDA-NRCS-National Geospatial Center of Excellence (NGCE) for current license information on this dataset. The U.S. Government may provide the imagery to the following organizations: All US Federal Government, State Governments, Local Governments, Foreign Governments, inter-governmental organizations, non-profit organizations and Universities. Use of this product for Commercial Purposes by a person/company/organization for a profit or fee is strictly prohibited. Please refer to the separately attached license from DigitalGlobe, Inc. for additional information. Digital orthoimagery combines the image characteristics of a digital image with the geometric qualities of a map. The primary dynamic digital orthophoto is a 30-50 centimeter ground resolution, image cast to the customer specified projection and datum defined in the Spatial Reference Information section of this metadata document. The overedge is included to facilitate tonal matching for mosaicking and ensure full coverage if the imagery is reprojected. The normal orientation of data is by lines (rows) and samples (columns). Each line contains a series of pixels ordered from west to east with the order of the lines from north to south. DigitalGlobe WorldView-2(WV-2)/WorldView-3(WV-3) Satellite Orthoimagery was delivered to USDA in GeoTIFF file format. The NGCE processed the DigitalGlobe delivered WV-2/WV-3, 8 Band, 8 Bit Pan-Sharpen GeoTIFF files. The file contains eight Multi-Spectral bands. Band 1: Coastal Blue (400 - 450 nm) Band 2: Blue (450 - 510 nm) Band 3: Green (510 - 580 nm) Band 4: Yellow (585 - 625 nm) Band 5: Red (625 - 690 nm) Band 6: Red Edge (705 - 745 nm) Band 7: Color Infrared 1/NIR 1 (770 - 895 nm) Band 8: Color Infrared 2/NIR 2 (860 - 1040 nm). This NGCE created files can consist of Natural Color (Bands 5-3-2), Color Infrared/CIR (Bands 7-5-3) or 8 Multi-Spectral bands (Bands 1-8).
Single Fused Map Cache: false
Extent:
XMin: -1.78404310953E7
YMin: 2140156.8069000044
XMax: -1.723021189530001E7
YMax: 2540698.8068999983
Spatial Reference: 102100
(3857)
Initial Extent:
XMin: -1.78404310953E7
YMin: 2140156.8069000044
XMax: -1.723021189530001E7
YMax: 2540698.8068999983
Spatial Reference: 102100
(3857)
Full Extent:
XMin: -1.78404310953E7
YMin: 2140156.8069000044
XMax: -1.723021189530001E7
YMax: 2540698.8068999983
Spatial Reference: 102100
(3857)
Pixel Size X: 0.39999999999999464
Pixel Size Y: 0.39999999999999397
Band Count: 3
Pixel Type: U8
RasterFunction Infos: {"rasterFunctionInfos": [{
"help": "",
"name": "None",
"description": ""
}]}
Mensuration Capabilities: None
Inspection Capabilities:
Has Histograms: true
Has Colormap: false
Has Multi Dimensions : false
Rendering Rule:
Min Scale: 0
Max Scale: 0
Resampling: false
Copyright Text: USDA-NRCS-National Geospatial Center of Excellence, DOD-NGA
Service Data Type: esriImageServiceDataTypeRGB
Min Values: 0, 0, 0
Max Values: 255, 255, 255
Mean Values: 43.617547825098335, 47.728644165966571, 47.278169846975068
Standard Deviation Values: 44.488786882210768, 46.191042286325903, 45.650766386037702
Object ID Field: OBJECTID
Fields:
-
OBJECTID
(
alias: OBJECTID, type: esriFieldTypeOID
)
-
Shape
(
alias: Shape, type: esriFieldTypeGeometry
)
-
Name
(
length: 200, alias: Name, type: esriFieldTypeString
)
-
MinPS
(
alias: MinPS, type: esriFieldTypeDouble
)
-
MaxPS
(
alias: MaxPS, type: esriFieldTypeDouble
)
-
LowPS
(
alias: LowPS, type: esriFieldTypeDouble
)
-
HighPS
(
alias: HighPS, type: esriFieldTypeDouble
)
-
Category
(
alias: Category, type: esriFieldTypeInteger
, Coded Values:
[0: Unknown]
, [1: Primary]
, [2: Overview]
, ...6 more...
)
-
Tag
(
length: 100, alias: Tag, type: esriFieldTypeString
)
-
GroupName
(
length: 100, alias: GroupName, type: esriFieldTypeString
)
-
ProductName
(
length: 100, alias: ProductName, type: esriFieldTypeString
)
-
CenterX
(
alias: CenterX, type: esriFieldTypeDouble
)
-
CenterY
(
alias: CenterY, type: esriFieldTypeDouble
)
-
ZOrder
(
alias: ZOrder, type: esriFieldTypeInteger
)
-
Shape_Length
(
alias: Shape_Length, type: esriFieldTypeDouble
)
-
Shape_Area
(
alias: Shape_Area, type: esriFieldTypeDouble
)
Default Mosaic Method: Northwest
Allowed Mosaic Methods: NorthWest,Center,LockRaster,ByAttribute,Nadir,Viewpoint,Seamline,None
SortField:
SortValue: N/A
Mosaic Operator: First
Default Compression Quality: 75
Default Resampling Method: Bilinear
Max Record Count: 1000
Max Image Height: 4100
Max Image Width: 15000
Max Download Image Count: 20
Max Mosaic Image Count: 20
Allow Raster Function: true
Allow Copy: true
Allow Analysis: true
Allow Compute TiePoints: false
Supports Statistics: true
Supports Advanced Queries: true
Use StandardizedQueries: true
Raster Type Infos:
Name: Raster Dataset
Description: Supports all ArcGIS Raster Datasets
Help:
Has Raster Attribute Table: false
Edit Fields Info: N/A
Ownership Based AccessControl For Rasters: N/A
Child Resources:
Info
Histograms
Statistics
Key Properties
Legend
Raster Function Infos
Supported Operations:
Export Image
Query
Identify
Compute Histograms
Compute Statistics Histograms
Get Samples
Compute Class Statistics
Query GPS Info
Find Images
Image to Map
Map to Image
Measure from Image
Image to Map Multiray
Query Boundary
Compute Pixel Location
Compute Angles
Validate
Project